BEGIN:VCALENDAR
VERSION:2.0
PRODID:-//Drupal iCal API//EN
X-WR-CALNAME:Events items teaser
X-WR-TIMEZONE:America/Toronto
BEGIN:VTIMEZONE
TZID:America/Toronto
X-LIC-LOCATION:America/Toronto
BEGIN:DAYLIGHT
TZNAME:EDT
TZOFFSETFROM:-0500
TZOFFSETTO:-0400
DTSTART:20240310T070000
END:DAYLIGHT
BEGIN:STANDARD
TZNAME:EST
TZOFFSETFROM:-0400
TZOFFSETTO:-0500
DTSTART:20231105T060000
END:STANDARD
END:VTIMEZONE
BEGIN:VEVENT
UID:69e693a37e6d5
DTSTART;TZID=America/Toronto:20240912T190000
SEQUENCE:0
TRANSP:TRANSPARENT
DTEND;TZID=America/Toronto:20240912T200000
URL:https://uwaterloo.ca/renison-student-experience/events/2slgbtqia-welcom
 e-night
LOCATION:REN - Renison University College 240 Westmount Road North Waterloo
  ON N2L 3G4 Canada
SUMMARY:2SLGBTQIA+ Welcome Night
CLASS:PUBLIC
DESCRIPTION:Are you part of the 2SLGBTQIA+ Community? Come out and meet wit
 h other\nfellow members in a relaxing environment and learn about the reso
 urces\navailable around campus! Allies welcome!\n\nWHAT CAN YOU EXPECT?\n\
 n* Conversations with peers and staff\n * A chance to connect with other m
 embers of the 2SLGBTQIA+ community\nand allies\n * Snacks and light refres
 hments\n\nWHEN AND WHERE?\n\nThursday\, September 12\n\n7:00pm - 8:00pm\n\
 nLink Inclusion Lounge
DTSTAMP:20260420T205915Z
END:VEVENT
END:VCALENDAR