BEGIN:VCALENDAR
VERSION:2.0
PRODID:-//Drupal iCal API//EN
X-WR-CALNAME:Events items teaser
X-WR-TIMEZONE:America/Toronto
BEGIN:VTIMEZONE
TZID:America/Toronto
X-LIC-LOCATION:America/Toronto
BEGIN:DAYLIGHT
TZNAME:EDT
TZOFFSETFROM:-0500
TZOFFSETTO:-0400
DTSTART:20240310T070000
END:DAYLIGHT
BEGIN:STANDARD
TZNAME:EST
TZOFFSETFROM:-0400
TZOFFSETTO:-0500
DTSTART:20231105T060000
END:STANDARD
END:VTIMEZONE
BEGIN:VEVENT
UID:69e5e6be21d12
DTSTART;TZID=America/Toronto:20240924T173000
SEQUENCE:0
TRANSP:TRANSPARENT
DTEND;TZID=America/Toronto:20240924T183000
URL:https://uwaterloo.ca/renison-student-experience/events/queer-cozy-0
LOCATION:REN - Renison University College 240 Westmount Road North Link Inc
 lusion Lounge Waterloo ON N2L 3G4 Canada
SUMMARY:Queer &amp; Cozy
CLASS:PUBLIC
DESCRIPTION:Are you part of the Queer community? Come hangout with fellow\n
 2SLGBTQIA+ students and allies and enjoy some delicious treats!\n\nWHAT CA
 N YOU EXPECT?\n\n* Relax and meet with other 2SLGBTQIA+ students and allie
 s in a\ncomfortable space.\n * All students are welcome to drop in for as 
 little or as long as\nthey want.\n * Yummy treats provided!\n\nWHEN AND WH
 ERE?\n\nTuesday\, September 24\n\n5:30pm - 6:30pm\n\nLink Inclusion Lounge
DTSTAMP:20260420T084134Z
END:VEVENT
END:VCALENDAR