BEGIN:VCALENDAR
VERSION:2.0
PRODID:-//Drupal iCal API//EN
X-WR-CALNAME:Events items teaser
X-WR-TIMEZONE:America/Toronto
BEGIN:VTIMEZONE
TZID:America/Toronto
X-LIC-LOCATION:America/Toronto
BEGIN:DAYLIGHT
TZNAME:EDT
TZOFFSETFROM:-0500
TZOFFSETTO:-0400
DTSTART:20240310T070000
END:DAYLIGHT
BEGIN:STANDARD
TZNAME:EST
TZOFFSETFROM:-0400
TZOFFSETTO:-0500
DTSTART:20231105T060000
END:STANDARD
END:VTIMEZONE
BEGIN:VEVENT
UID:69e2c2b20aa13
DTSTART;TZID=America/Toronto:20241002T170000
SEQUENCE:0
TRANSP:TRANSPARENT
DTEND;TZID=America/Toronto:20241002T180000
URL:https://uwaterloo.ca/renison-student-experience/events/racialized-stude
 nts-hangout
LOCATION:REN - Renison University College 240 Westmount Road North Link Inc
 lusion Lounge Waterloo ON N2L 3G4 Canada
SUMMARY:Racialized Students Hangout
CLASS:PUBLIC
DESCRIPTION:Do you identify as a racialized student in our Renison or UWate
 rloo\nstudent community? Drop in to connect with other racialized students
 \nin a relaxed\, friendly atmosphere. Snacks will be provided!\n\nWHAT CAN
  YOU EXPECT?\n\n* Conversations with other racialized students \n * Enjoy 
 snacks and a chance to share your experiences\n * Friendship and community
  building with your peers\n\nWHEN AND WHERE?\n\nWednesday\, October 2\n\n5
 :00pm – 6:00pm\n\nLink Inclusion Lounge
DTSTAMP:20260417T233058Z
END:VEVENT
END:VCALENDAR