BEGIN:VCALENDAR
VERSION:2.0
PRODID:-//Drupal iCal API//EN
X-WR-CALNAME:Events items teaser
X-WR-TIMEZONE:America/Toronto
BEGIN:VTIMEZONE
TZID:America/Toronto
X-LIC-LOCATION:America/Toronto
BEGIN:DAYLIGHT
TZNAME:EDT
TZOFFSETFROM:-0500
TZOFFSETTO:-0400
DTSTART:20240310T070000
END:DAYLIGHT
BEGIN:STANDARD
TZNAME:EST
TZOFFSETFROM:-0400
TZOFFSETTO:-0500
DTSTART:20231105T060000
END:STANDARD
END:VTIMEZONE
BEGIN:VEVENT
UID:69e58f6bedfda
DTSTART;TZID=America/Toronto:20241004T123000
SEQUENCE:0
TRANSP:TRANSPARENT
DTEND;TZID=America/Toronto:20241004T133000
URL:https://uwaterloo.ca/renison-student-experience/events/moose-hide-outre
 ach-booth-national-day-action-missing
LOCATION:REN - Renison University College 240 Westmount Road North Cafeteri
 a Waterloo ON N2L 3G4 Canada
SUMMARY:Moose Hide Outreach Booth for National Day of Action for Missing &amp;\
 nMurdered Indigenous Women\, Girls\, and Two-Spirit People
CLASS:PUBLIC
DESCRIPTION:The Moose Hide Campaign [http://www.moosehidecampaign.ca/] is
  an\nIndigenous-led grassroots movement dedicated to ending gender-based\n
 violence. This nation-wide movement is to spark change in taking\naction t
 o end violence in our communities. An important element of the\nMoose Hide
  Campaign is the visibility of the moose hide pin. Wearing a\nmoose hide p
 in signifies a commitment to honour\, respect\, and protect\nthe women and
  children in our lives and to speak out against\ngender-based and domestic
  violence. The pin is a symbol of connection\,\nconcern\, and solidarity.\
 n\nWHAT CAN YOU EXPECT?\n\n* A chance to learn about the Moose Hide Campai
 gn and other\nIndigenous initiatives\n * Reflection and information regard
 ing Missing and Murdered\nIndigenous Women\, Girls\, and Two-Spirit People
 \n\nWHEN AND WHERE?\n\nMonday\, September 30\n\n12:30pm – 1:30pm\n\nReni
 son Cafeteria\n\nClick here to learn about the ways the University of Wate
 rloo honours\nthe lives of Missing and Murdered Indigenous Women\, Girls\,
  and\nTwo-Spirit People.\n[/MissingandMurderedIndigenousWomen\,Girls\,andT
 wo-SpiritPeople]
DTSTAMP:20260420T022859Z
END:VEVENT
END:VCALENDAR