BEGIN:VCALENDAR
VERSION:2.0
PRODID:-//Drupal iCal API//EN
X-WR-CALNAME:Events items teaser
X-WR-TIMEZONE:America/Toronto
BEGIN:VTIMEZONE
TZID:America/Toronto
X-LIC-LOCATION:America/Toronto
BEGIN:DAYLIGHT
TZNAME:EDT
TZOFFSETFROM:-0500
TZOFFSETTO:-0400
DTSTART:20240310T070000
END:DAYLIGHT
BEGIN:STANDARD
TZNAME:EST
TZOFFSETFROM:-0400
TZOFFSETTO:-0500
DTSTART:20231105T060000
END:STANDARD
END:VTIMEZONE
BEGIN:VEVENT
UID:69e2c4677b35c
DTSTART;TZID=America/Toronto:20241011T123000
SEQUENCE:0
TRANSP:TRANSPARENT
DTEND;TZID=America/Toronto:20241011T133000
URL:https://uwaterloo.ca/renison-student-experience/events/coming-out-day-o
 utreach-booth
LOCATION:REN - Renison University College 240 Westmount Road North Cafeteri
 a Waterloo ON N2L 3G4 Canada
SUMMARY:Coming Out Day Outreach Booth
CLASS:PUBLIC
DESCRIPTION:National Coming Out Day is a day that supports all 2SLGBTQIA+\n
 individuals sharing their identities with the world. Coming out on\nthis d
 ay is not a requirement\, and whether you are ready or not (or a\nsupporti
 ve ally)\, Renison will be hosting a booth to share resources\nand support
  for all community members. \n\nWHAT CAN YOU EXPECT?\n\n* Handouts\, flyer
 s\, and knowledgeable staff who are happy to answer\nquestions\n * A chanc
 e to learn about 2SLGBTQIA+ initiatives\, support\, and\nadvocacy in Renis
 on and the Waterloo Region\n * A space to chat with trusted members of the
  Renison community\nabout sexuality\, gender\, and personal identity\n\nWH
 EN AND WHERE?\n\nFriday\, October 11\n\n12:30pm – 1:30pm\n\nRenison Cafe
 teria\n\nThe Glow Centre for Sexual and Gender Diversity\n[https://wusa.ca
 /services/student-run-services/glow/] and SPECTRUM\n[https://ourspectrum.
 com/] offer support for 2SLGBTQIA+ individuals\nboth on-campus and in the
  Waterloo Region. 
DTSTAMP:20260417T233815Z
END:VEVENT
END:VCALENDAR