BEGIN:VCALENDAR
VERSION:2.0
PRODID:-//Drupal iCal API//EN
X-WR-CALNAME:Events items teaser
X-WR-TIMEZONE:America/Toronto
BEGIN:VTIMEZONE
TZID:America/Toronto
X-LIC-LOCATION:America/Toronto
BEGIN:DAYLIGHT
TZNAME:EDT
TZOFFSETFROM:-0500
TZOFFSETTO:-0400
DTSTART:20240310T070000
END:DAYLIGHT
BEGIN:STANDARD
TZNAME:EST
TZOFFSETFROM:-0400
TZOFFSETTO:-0500
DTSTART:20231105T060000
END:STANDARD
END:VTIMEZONE
BEGIN:VEVENT
UID:69e2c3da24c79
DTSTART;TZID=America/Toronto:20241031T123000
SEQUENCE:0
TRANSP:TRANSPARENT
DTEND;TZID=America/Toronto:20241031T133000
URL:https://uwaterloo.ca/renison-student-experience/events/diwali-celebrati
 on
LOCATION:REN - Renison University College 240 Westmount Road North Cafeteri
 a Waterloo ON N2L 3G4 Canada
SUMMARY:Diwali Celebration
CLASS:PUBLIC
DESCRIPTION:Happy Diwali! Join Renison as we acknowledge and celebrate the 
 Hindu\nfestival of lights!\n\nWHAT CAN YOU EXPECT?\n\n* Enjoy traditional 
 Diwali treats\n * Learn about Diwali and how the festival is celebrated\n\
 nWHEN AND WHERE?\n\nThursday\, October 31\n\n12:30pm - 1:30pm\n\nRenison C
 afeteria
DTSTAMP:20260417T233554Z
END:VEVENT
END:VCALENDAR