BEGIN:VCALENDAR
VERSION:2.0
PRODID:-//Drupal iCal API//EN
X-WR-CALNAME:Events items teaser
X-WR-TIMEZONE:America/Toronto
BEGIN:VTIMEZONE
TZID:America/Toronto
X-LIC-LOCATION:America/Toronto
BEGIN:DAYLIGHT
TZNAME:EDT
TZOFFSETFROM:-0500
TZOFFSETTO:-0400
DTSTART:20240310T070000
END:DAYLIGHT
BEGIN:STANDARD
TZNAME:EST
TZOFFSETFROM:-0400
TZOFFSETTO:-0500
DTSTART:20231105T060000
END:STANDARD
END:VTIMEZONE
BEGIN:VEVENT
UID:69e2c3e383407
DTSTART;TZID=America/Toronto:20241022T110000
SEQUENCE:0
TRANSP:TRANSPARENT
DTEND;TZID=America/Toronto:20241022T130000
URL:https://uwaterloo.ca/renison-student-experience/events/link-inclusion-l
 ounge-open-house
LOCATION:REN - Renison University College 240 Westmount Road North Link Inc
 lusion Lounge Waterloo ON N2L 3G4 Canada
SUMMARY:Link Inclusion Lounge Open House
CLASS:PUBLIC
DESCRIPTION:Renison is delighted to launch our new Link Inclusion Lounge\, 
 and we\ninvite you to join us at our Open House!\n\nLearn more about Renis
 on's Belonging Project and the initiatives that\nare part of it to reinfor
 ce belonging for our student community. Drop\nby anytime to enjoy deliciou
 s treats while you meet our Inclusion\nCoordinators and learn more about t
 heir roles as practicum students at\nRenison in the Bachelor of Social Wor
 k program.\n\nWHAT CAN YOU EXPECT?\n\n* Learn more about the types of even
 ts happening in the Link\nInclusion Lounge.\n * Find out about the support
 s available to you that help you\nnavigate life in the University of Water
 loo community.\n * Tasty snacks will be available as you get to know our I
 nclusion\nCoordinators!\n\nWHEN AND WHERE?\n\nTuesday\, October 22\n\n11:0
 0am - 1:00pm\n\nLink Inclusion Lounge
DTSTAMP:20260417T233603Z
END:VEVENT
END:VCALENDAR