BEGIN:VCALENDAR
VERSION:2.0
PRODID:-//Drupal iCal API//EN
X-WR-CALNAME:Events items teaser
X-WR-TIMEZONE:America/Toronto
BEGIN:VTIMEZONE
TZID:America/Toronto
X-LIC-LOCATION:America/Toronto
BEGIN:DAYLIGHT
TZNAME:EDT
TZOFFSETFROM:-0500
TZOFFSETTO:-0400
DTSTART:20240310T070000
END:DAYLIGHT
BEGIN:STANDARD
TZNAME:EST
TZOFFSETFROM:-0400
TZOFFSETTO:-0500
DTSTART:20241103T060000
END:STANDARD
END:VTIMEZONE
BEGIN:VEVENT
UID:69ebb4d86343b
DTSTART;TZID=America/Toronto:20241125T160000
SEQUENCE:0
TRANSP:TRANSPARENT
DTEND;TZID=America/Toronto:20241125T180000
URL:https://uwaterloo.ca/renison-student-experience/events/phys-115-study-s
 ession-base-engineering-students
LOCATION:REN - Renison University College 240 Westmount Road North Meet in 
 the Atrium Waterloo ON N2L 3G4 Canada
SUMMARY:PHYS 115 Study Session for BASE Engineering Students
CLASS:PUBLIC
DESCRIPTION:BASE Engineering students taking PHYS 115 can receive tutoring 
 support\nfrom professional tutors at the Physics Tutoring Centre. Meet you
 r\npeers and peer leaders in the Atrium to walk over to PHYS together!\n\n
 WHAT CAN YOU EXPECT?\n\n* Bring your notes\, computer\, and questions!\n *
  Walk to PHYS together and check in at the tutoring centre\n * Connect wit
 h other students taking Physics courses and receive\nhelp from the tutors!
 \n\nWHEN AND WHERE?\n\nMonday\, November 25\n\n4:00pm – 6:00pm\n\nMeet i
 n the Renison Atrium to walk to PHYS\n\nLEARN MORE ABOUT THE PHYSICS TUTOR
 IAL CENTRE!\n[https://uwaterloo.ca/physics-astronomy/about-physics-and-ast
 ronomy/physics-tutorial-centre]
DTSTAMP:20260424T182216Z
END:VEVENT
END:VCALENDAR