BEGIN:VCALENDAR
VERSION:2.0
PRODID:-//Drupal iCal API//EN
X-WR-CALNAME:Events items teaser
X-WR-TIMEZONE:America/Toronto
BEGIN:VTIMEZONE
TZID:America/Toronto
X-LIC-LOCATION:America/Toronto
BEGIN:DAYLIGHT
TZNAME:EDT
TZOFFSETFROM:-0500
TZOFFSETTO:-0400
DTSTART:20240310T070000
END:DAYLIGHT
BEGIN:STANDARD
TZNAME:EST
TZOFFSETFROM:-0400
TZOFFSETTO:-0500
DTSTART:20241103T060000
END:STANDARD
END:VTIMEZONE
BEGIN:VEVENT
UID:69e2c2b4262f2
DTSTART;TZID=America/Toronto:20241105T170000
SEQUENCE:0
TRANSP:TRANSPARENT
DTEND;TZID=America/Toronto:20241105T183000
URL:https://uwaterloo.ca/renison-student-experience/events/chinese-student-
 hangout-0
LOCATION:REN - Renison University College 240 Westmount Road North Dunker F
 amily Lounge Waterloo ON N2L 3G4 Canada
SUMMARY:Chinese Student Hangout
CLASS:PUBLIC
DESCRIPTION:Do you identify as a Chinese student? Come join us for a fun Ch
 inese\nstudent hangout to connect with other Chinese students at Renison a
 nd\nUniversity of Waterloo!\n\nWHAT CAN YOU EXPECT?\n\n* Conversations wit
 h other Chinese students and Renison staff\n * Enjoy Chinese snacks and a 
 chance to share your experiences\n * Friendship and community building wit
 h your peers\n * This week only: KARAOKE!\n\nWHEN AND WHERE?\n\nTuesday\, 
 November 5\n\n5:00pm - 6:30pm\n\nDunker Family Lounge\n\nALL NOVEMBER LONG
 \, IF YOU BRING A NON-PERISHABLE FOOD ITEM OR DONATION\nFOR WUSA FOOD SUPP
 ORT SERVICES TO ANY RENISON EVENT\, YOU WILL BE\nENTERED INTO A DRAW TO WI
 N 1 OF 3 MEL’S DINER GIFT CARDS!
DTSTAMP:20260417T233100Z
END:VEVENT
END:VCALENDAR