BEGIN:VCALENDAR
VERSION:2.0
PRODID:-//Drupal iCal API//EN
X-WR-CALNAME:Events items teaser
X-WR-TIMEZONE:America/Toronto
BEGIN:VTIMEZONE
TZID:America/Toronto
X-LIC-LOCATION:America/Toronto
BEGIN:DAYLIGHT
TZNAME:EDT
TZOFFSETFROM:-0500
TZOFFSETTO:-0400
DTSTART:20240310T070000
END:DAYLIGHT
BEGIN:STANDARD
TZNAME:EST
TZOFFSETFROM:-0400
TZOFFSETTO:-0500
DTSTART:20241103T060000
END:STANDARD
END:VTIMEZONE
BEGIN:VEVENT
UID:69e4f9c091316
DTSTART;TZID=America/Toronto:20241211T150000
SEQUENCE:0
TRANSP:TRANSPARENT
DTEND;TZID=America/Toronto:20241211T163000
URL:https://uwaterloo.ca/renison-student-experience/events/tea-time-your-pe
 er-leaders
LOCATION:REN - Renison University College 240 Westmount Road North Link Inc
 lusion Lounge Waterloo ON N2L 3G4 Canada
SUMMARY:Tea Time with your Peer Leaders
CLASS:PUBLIC
DESCRIPTION:Enjoy a nice cup of tea and snacks after class with your peer l
 eaders.\nConnect\, relax\, and hangout after class!\n\nWHAT CAN YOU EXPECT
 ?\n\n* Snacks and drinks provided\n * Conversation and a chance to ask que
 stions\n * A way to relax between exams\n\nWHEN AND WHERE?\n\nWednesday\, 
 December 11\n\n3:00pm – 4:30pm\n\nLink Inclusion Lounge
DTSTAMP:20260419T155024Z
END:VEVENT
END:VCALENDAR