BEGIN:VCALENDAR
VERSION:2.0
PRODID:-//Drupal iCal API//EN
X-WR-CALNAME:Events items teaser
X-WR-TIMEZONE:America/Toronto
BEGIN:VTIMEZONE
TZID:America/Toronto
X-LIC-LOCATION:America/Toronto
BEGIN:DAYLIGHT
TZNAME:EDT
TZOFFSETFROM:-0500
TZOFFSETTO:-0400
DTSTART:20240310T070000
END:DAYLIGHT
BEGIN:STANDARD
TZNAME:EST
TZOFFSETFROM:-0400
TZOFFSETTO:-0500
DTSTART:20241103T060000
END:STANDARD
END:VTIMEZONE
BEGIN:VEVENT
UID:69e743404fdff
DTSTART;TZID=America/Toronto:20250107T180000
SEQUENCE:0
TRANSP:TRANSPARENT
DTEND;TZID=America/Toronto:20250107T190000
URL:https://uwaterloo.ca/renison-student-experience/events/silent-reading-c
 lub-1
LOCATION:REN - Renison University College 240 Westmount Road North Link Inc
 lusion Lounge Waterloo ON N2L 3G4 Canada
SUMMARY:Silent Reading Club
CLASS:PUBLIC
DESCRIPTION:Do you love reading but can never find the time? We have the so
 lution\nfor you! Bring a book and get ready to get comfy in the Link Inclu
 sion\nLounge while you and a group of friends take a break to read!\n\nWHA
 T CAN YOU EXPECT?\n\n* Independent reading with other book lovers\n * Warm
  beverages and light snacks to enjoy while you read\n * A chance to talk a
 bout your book (and all books) with other\nparticipants!\n\nWHEN AND WHERE
 ?\n\nTuesday\, January 7 and 21\n\n6:00pm - 7:00pm\n\nLink Inclusion Loung
 e
DTSTAMP:20260421T092832Z
END:VEVENT
BEGIN:VEVENT
UID:69e7434050e7d
DTSTART;TZID=America/Toronto:20250121T180000
SEQUENCE:0
TRANSP:TRANSPARENT
DTEND;TZID=America/Toronto:20250121T190000
URL:https://uwaterloo.ca/renison-student-experience/events/silent-reading-c
 lub-1
LOCATION:REN - Renison University College 240 Westmount Road North Link Inc
 lusion Lounge Waterloo ON N2L 3G4 Canada
SUMMARY:Silent Reading Club
CLASS:PUBLIC
DESCRIPTION:Do you love reading but can never find the time? We have the so
 lution\nfor you! Bring a book and get ready to get comfy in the Link Inclu
 sion\nLounge while you and a group of friends take a break to read!\n\nWHA
 T CAN YOU EXPECT?\n\n* Independent reading with other book lovers\n * Warm
  beverages and light snacks to enjoy while you read\n * A chance to talk a
 bout your book (and all books) with other\nparticipants!\n\nWHEN AND WHERE
 ?\n\nTuesday\, January 7 and 21\n\n6:00pm - 7:00pm\n\nLink Inclusion Loung
 e
DTSTAMP:20260421T092832Z
END:VEVENT
END:VCALENDAR