BEGIN:VCALENDAR
VERSION:2.0
PRODID:-//Drupal iCal API//EN
X-WR-CALNAME:Events items teaser
X-WR-TIMEZONE:America/Toronto
BEGIN:VTIMEZONE
TZID:America/Toronto
X-LIC-LOCATION:America/Toronto
BEGIN:DAYLIGHT
TZNAME:EDT
TZOFFSETFROM:-0500
TZOFFSETTO:-0400
DTSTART:20240310T070000
END:DAYLIGHT
BEGIN:STANDARD
TZNAME:EST
TZOFFSETFROM:-0400
TZOFFSETTO:-0500
DTSTART:20241103T060000
END:STANDARD
END:VTIMEZONE
BEGIN:VEVENT
UID:69e4f9c290791
DTSTART;TZID=America/Toronto:20250122T170000
SEQUENCE:0
TRANSP:TRANSPARENT
DTEND;TZID=America/Toronto:20250122T183000
URL:https://uwaterloo.ca/renison-student-experience/events/chinese-student-
 hangout-2
LOCATION:REN - Renison University College 240 Westmount Road North Dunker F
 amily Lounge Waterloo ON N2L 3G4 Canada
SUMMARY:Chinese Student Hangout
CLASS:PUBLIC
DESCRIPTION:Do you identify as a Chinese student? Come join us for a fun Ch
 inese\nstudent hangout to connect with other Chinese students at Renison a
 nd\nUniversity of Waterloo!\n\nWHAT CAN YOU EXPECT?\n\n* Conversations wit
 h other Chinese students and Renison staff\n * Enjoy Chinese snacks and a 
 chance to share your experiences\n * Friendship and community building wit
 h your peers\n\nWHEN AND WHERE?\n\nWednesday\, January 22\n\n5:00pm - 6:30
 pm\n\nDunker Family Lounge
DTSTAMP:20260419T155026Z
END:VEVENT
END:VCALENDAR