BEGIN:VCALENDAR
VERSION:2.0
PRODID:-//Drupal iCal API//EN
X-WR-CALNAME:Events items teaser
X-WR-TIMEZONE:America/Toronto
BEGIN:VTIMEZONE
TZID:America/Toronto
X-LIC-LOCATION:America/Toronto
BEGIN:DAYLIGHT
TZNAME:EDT
TZOFFSETFROM:-0500
TZOFFSETTO:-0400
DTSTART:20240310T070000
END:DAYLIGHT
BEGIN:STANDARD
TZNAME:EST
TZOFFSETFROM:-0400
TZOFFSETTO:-0500
DTSTART:20241103T060000
END:STANDARD
END:VTIMEZONE
BEGIN:VEVENT
UID:69e585398e8a0
DTSTART;TZID=America/Toronto:20250115T190000
SEQUENCE:0
TRANSP:TRANSPARENT
DTEND;TZID=America/Toronto:20250115T200000
URL:https://uwaterloo.ca/renison-student-experience/events/abc-african-blac
 k-caribbean-chill
LOCATION:REN - Renison University College 240 Westmount Road North Link Inc
 lusion Lounge Waterloo ON N2L 3G4 Canada
SUMMARY:ABC (African\, Black\, Caribbean) Chill
CLASS:PUBLIC
DESCRIPTION:Calling all African\, Black\, and Caribbean students across Ren
 ison!\nJoin Renison Don David for an hour of chill conversation\, free foo
 d\,\nand conversation as we get to know more people across the Renison\nco
 mmunity. \n\nWHAT CAN YOU EXPECT?\n\n* Friendly conversation with other A
 frican\, Black\, and Caribbean\nstudents\n * A chance to build connections
  with others across Renison\n * Free food and a chance to de-stress away f
 rom the rest of the\nworld!\n\nWHEN AND WHERE?\n\nWednesday\, January 15\n
 \n7:00pm - 8:00pm\n\nLink Inclusion Lounge
DTSTAMP:20260420T014529Z
END:VEVENT
END:VCALENDAR