BEGIN:VCALENDAR
VERSION:2.0
PRODID:-//Drupal iCal API//EN
X-WR-CALNAME:Events items teaser
X-WR-TIMEZONE:America/Toronto
BEGIN:VTIMEZONE
TZID:America/Toronto
X-LIC-LOCATION:America/Toronto
BEGIN:DAYLIGHT
TZNAME:EDT
TZOFFSETFROM:-0500
TZOFFSETTO:-0400
DTSTART:20260308T070000
END:DAYLIGHT
BEGIN:STANDARD
TZNAME:EST
TZOFFSETFROM:-0400
TZOFFSETTO:-0500
DTSTART:20251102T060000
END:STANDARD
END:VTIMEZONE
BEGIN:VEVENT
UID:69e831edf1609
DTSTART;TZID=America/Toronto:20260612T182900
SEQUENCE:0
TRANSP:TRANSPARENT
DTEND;TZID=America/Toronto:20260612T220000
URL:https://uwaterloo.ca/renison/events/bevs-and-bites-alumni-evening
LOCATION:REN - Renison University College 240 Westmount Road North Waterloo
  ON N2L 3G4 Canada
SUMMARY:Bevs and Bites Alumni Evening
CLASS:PUBLIC
DESCRIPTION:Fourth year running!\n\nJoin other Renison alumni for our annua
 l Alumni Bevs &amp; Bites event\n(formerly Beer &amp; Bites)\, hosted by the four 
 University Colleges across\nthe creek. We will meet at Renison and start a
  walking tour to each of\nthe University Colleges\, sipping and eating our
  way through the\nevening\, ending with our last stop at Renison.\n\nAs ou
 r past participants have learned\, you won't need dinner ahead of\ntime. Y
 our $30.00 ticket (incl. tax) includes eight craft beer/drink\nand food se
 lections (two samples at each college) and an alumni gift\nbag.
DTSTAMP:20260422T022654Z
END:VEVENT
END:VCALENDAR