BEGIN:VCALENDAR
VERSION:2.0
PRODID:-//Drupal iCal API//EN
X-WR-CALNAME:Events items teaser
X-WR-TIMEZONE:America/Toronto
BEGIN:VTIMEZONE
TZID:America/Toronto
X-LIC-LOCATION:America/Toronto
BEGIN:DAYLIGHT
TZNAME:EDT
TZOFFSETFROM:-0500
TZOFFSETTO:-0400
DTSTART:20260308T070000
END:DAYLIGHT
BEGIN:STANDARD
TZNAME:EST
TZOFFSETFROM:-0400
TZOFFSETTO:-0500
DTSTART:20251102T060000
END:STANDARD
END:VTIMEZONE
BEGIN:VEVENT
UID:69e831e28e09d
DTSTART;TZID=America/Toronto:20260521T190000
SEQUENCE:0
TRANSP:TRANSPARENT
DTEND;TZID=America/Toronto:20260521T210000
URL:https://uwaterloo.ca/renison/events/founders-day-2026
LOCATION:REN - Renison University College 240 Westmount Road North Waterloo
  ON N2L 3G4 Canada
SUMMARY:Founders' Day 2026
CLASS:PUBLIC
DESCRIPTION:For over 60 years\, with each Founders’ Day celebration\, Ren
 ison\nstaff\, faculty\, students\, alumni\, donors and other community mem
 bers\ncome together to honour our core values and the work that we do to\n
 promote them. We invite you to celebrate Founders’ Day with us. All\nhon
 orees are invited to wear their medals/honours to the event.\n\nWHEN: Thu
 rsday\, May 21\, 2026\, 7:00pm\nWHERE: The Atrium\, Renison University Co
 llege\, 240 Westmount Rd. N.\,\nWaterloo\nNote: This is a hybrid event\; t
 he formal program will be streamed over\nZoom for those attending remotely
 .\n\nWe hope you’ll be able to join us to celebrate and connect!\n\nRefr
 eshments and parking will be provided.
DTSTAMP:20260422T022642Z
END:VEVENT
END:VCALENDAR