BEGIN:VCALENDAR
VERSION:2.0
PRODID:-//Drupal iCal API//EN
X-WR-CALNAME:Events items teaser
X-WR-TIMEZONE:America/Toronto
BEGIN:VTIMEZONE
TZID:America/Toronto
X-LIC-LOCATION:America/Toronto
BEGIN:DAYLIGHT
TZNAME:EDT
TZOFFSETFROM:-0500
TZOFFSETTO:-0400
DTSTART:20230312T070000
END:DAYLIGHT
BEGIN:STANDARD
TZNAME:EST
TZOFFSETFROM:-0400
TZOFFSETTO:-0500
DTSTART:20221106T060000
END:STANDARD
END:VTIMEZONE
BEGIN:VEVENT
UID:69e4db83c7aec
DTSTART;TZID=America/Toronto:20231027T120000
SEQUENCE:0
TRANSP:TRANSPARENT
DTEND;TZID=America/Toronto:20231027T133000
URL:https://uwaterloo.ca/research/events/graham-seed-fund-networking-event
LOCATION:EC5 - East Campus 5 305 Phillip St. Enterprise Theatre\, Room 1111
  Waterloo ON N2L 5Z5 Canada
SUMMARY:Graham Seed Fund Networking Event
CLASS:PUBLIC
DESCRIPTION:Waterloo faculty and regional health-care partners are invited 
 to\nthe Graham Seed Fund Networking Event to learn more about the seed\nf
 und\, hear about the available resources for collaboration with\nhealth-ca
 re partners in the Region of Waterloo\, and engage with\nleaders and exper
 ts in health innovation. A hot lunch will be\nprovided. Register by Octobe
 r 24 for refreshment planning and parking\npurposes.
DTSTAMP:20260419T134123Z
END:VEVENT
END:VCALENDAR