BEGIN:VCALENDAR
VERSION:2.0
PRODID:-//Drupal iCal API//EN
X-WR-CALNAME:Events items teaser
X-WR-TIMEZONE:America/Toronto
BEGIN:VTIMEZONE
TZID:America/Toronto
X-LIC-LOCATION:America/Toronto
BEGIN:DAYLIGHT
TZNAME:EDT
TZOFFSETFROM:-0500
TZOFFSETTO:-0400
DTSTART:20250309T070000
END:DAYLIGHT
BEGIN:STANDARD
TZNAME:EST
TZOFFSETFROM:-0400
TZOFFSETTO:-0500
DTSTART:20251102T060000
END:STANDARD
END:VTIMEZONE
BEGIN:VEVENT
UID:69ec1688d4a87
DTSTART;TZID=America/Toronto:20260112T150000
SEQUENCE:0
TRANSP:TRANSPARENT
DTEND;TZID=America/Toronto:20260112T170000
URL:https://uwaterloo.ca/research/events/antagonism-and-intimidation-academ
 ia-speaker-series-20
LOCATION:EC5 - East Campus 5 305 Phillip St. EC5 1027 Waterloo ON N2L 5Z5 C
 anada
SUMMARY:Antagonism and Intimidation in Academia Speaker Series 2.0
CLASS:PUBLIC
DESCRIPTION:This panel focuses on issues relating to free speech\, hate spe
 ech\nlaws\, and freedom of expression in and beyond university environment
 s.\nIt brings significant attention to the wealth and poverty of free\nspe
 ech\, to university conduct under the rubric of expanding freedom of\nexpr
 ession\, and to matters concerning the banning of symbols\, emblems\,\nfla
 gs\, uniforms\, and insignia under hate speech laws. 
DTSTAMP:20260425T011904Z
END:VEVENT
END:VCALENDAR