BEGIN:VCALENDAR
VERSION:2.0
PRODID:-//Drupal iCal API//EN
X-WR-CALNAME:Events items teaser
X-WR-TIMEZONE:America/Toronto
BEGIN:VTIMEZONE
TZID:America/Toronto
X-LIC-LOCATION:America/Toronto
BEGIN:DAYLIGHT
TZNAME:EDT
TZOFFSETFROM:-0500
TZOFFSETTO:-0400
DTSTART:20240310T070000
END:DAYLIGHT
BEGIN:STANDARD
TZNAME:EST
TZOFFSETFROM:-0400
TZOFFSETTO:-0500
DTSTART:20241103T060000
END:STANDARD
END:VTIMEZONE
BEGIN:VEVENT
UID:69ebe91d929d1
DTSTART;TZID=America/Toronto:20250212T123000
SEQUENCE:0
TRANSP:TRANSPARENT
DTEND;TZID=America/Toronto:20250212T140000
URL:https://uwaterloo.ca/retirees-association/events/fish-chips-legion
SUMMARY:Fish &amp; Chips at the Legion
CLASS:PUBLIC
DESCRIPTION:Join fellow retirees at the Royal Canadian Legion for a Fish &amp; 
 Chips\nlunch.
DTSTAMP:20260424T220517Z
END:VEVENT
END:VCALENDAR