BEGIN:VCALENDAR
VERSION:2.0
PRODID:-//Drupal iCal API//EN
X-WR-CALNAME:Events items teaser
X-WR-TIMEZONE:America/Toronto
BEGIN:VTIMEZONE
TZID:America/Toronto
X-LIC-LOCATION:America/Toronto
BEGIN:DAYLIGHT
TZNAME:EDT
TZOFFSETFROM:-0500
TZOFFSETTO:-0400
DTSTART:20250309T070000
END:DAYLIGHT
BEGIN:STANDARD
TZNAME:EST
TZOFFSETFROM:-0400
TZOFFSETTO:-0500
DTSTART:20241103T060000
END:STANDARD
END:VTIMEZONE
BEGIN:VEVENT
UID:69eb642648700
DTSTART;TZID=America/Toronto:20250507T100000
SEQUENCE:0
TRANSP:TRANSPARENT
DTEND;TZID=America/Toronto:20250507T120000
URL:https://uwaterloo.ca/retirees-association/events/lets-get-active-health
 -valley-trail-hike
SUMMARY:Let's Get Active-Health Valley Trail Hike
CLASS:PUBLIC
DESCRIPTION:UWRA continues with it \"Let's Get Active\" theme of hikes this
  spring!
DTSTAMP:20260424T123758Z
END:VEVENT
END:VCALENDAR