BEGIN:VCALENDAR
VERSION:2.0
PRODID:-//Drupal iCal API//EN
X-WR-CALNAME:Events items teaser
X-WR-TIMEZONE:America/Toronto
BEGIN:VTIMEZONE
TZID:America/Toronto
X-LIC-LOCATION:America/Toronto
BEGIN:DAYLIGHT
TZNAME:EDT
TZOFFSETFROM:-0500
TZOFFSETTO:-0400
DTSTART:20250309T070000
END:DAYLIGHT
BEGIN:DAYLIGHT
TZNAME:EDT
TZOFFSETFROM:-0500
TZOFFSETTO:-0400
DTSTART:20240310T070000
END:DAYLIGHT
BEGIN:DAYLIGHT
TZNAME:EDT
TZOFFSETFROM:-0500
TZOFFSETTO:-0400
DTSTART:20230312T070000
END:DAYLIGHT
BEGIN:STANDARD
TZNAME:EST
TZOFFSETFROM:-0400
TZOFFSETTO:-0500
DTSTART:20251102T060000
END:STANDARD
BEGIN:STANDARD
TZNAME:EST
TZOFFSETFROM:-0400
TZOFFSETTO:-0500
DTSTART:20241103T060000
END:STANDARD
BEGIN:STANDARD
TZNAME:EST
TZOFFSETFROM:-0400
TZOFFSETTO:-0500
DTSTART:20231105T060000
END:STANDARD
END:VTIMEZONE
BEGIN:VEVENT
UID:69e34138808d6
DTSTART;TZID=America/Toronto:20251125T180000
SEQUENCE:0
TRANSP:TRANSPARENT
DTEND;TZID=America/Toronto:20251125T200000
URL:https://uwaterloo.ca/robohub/events/harnessing-robotics-and-ai-climate-
 solutions
LOCATION:PSE - Pearl Sullivan Engineering (formerly Engineering 7)\, Room 7
 303/7363 200 University Ave West Waterloo ON N2L 3G1 Canada
SUMMARY:Harnessing Robotics and AI for Climate Solutions
CLASS:PUBLIC
DESCRIPTION:_RoboHub and ESG Partners Inc._ are excited to announce their\
 nparticipation in the inaugural CANADA CLIMATE WEEK XCHANGE\n[http://www.
 ccwx.ca/] (CCWX). As part of this national initiative\,\nRoboHub and ESG
  Partners will host _Harnessing Robotics &amp; AI For\nClimate Solutions\,_ wh
 ich aims to explore how robotics and AI can be\napplied to climate solutio
 ns\, and how a climate lens can be applied to\nexisting robotics work in a
 reas like healthcare to respond to climate\nthreats.\n\nHarnessing Robotic
 s &amp; AI For Climate Solutions is taking place during\nCCWX 2025\, which run
 s from November 24 to November 30th.
DTSTAMP:20260418T083048Z
END:VEVENT
BEGIN:VEVENT
UID:69e3413883aff
DTSTART;TZID=America/Toronto:20251021T160000
SEQUENCE:0
TRANSP:TRANSPARENT
DTEND;TZID=America/Toronto:20251021T170000
URL:https://uwaterloo.ca/robohub/events/robots-vs-reality-responsible-scien
 ce-communication
LOCATION:DC - William G. Davis Computer Research Centre 200 University Aven
 ue West Waterloo ON N2L 3G1 Canada
SUMMARY:\"Robots vs Reality: Responsible Science Communication in the Atten
 tion\nEconomy\" Talk by Evan Ackerman
CLASS:PUBLIC
DESCRIPTION:Evan Ackerman\, Senior Editor of IEEE Spectrum and one of this 
 year's\nGlobal Engagement Seminar Jarislowski Fellows\, will be giving a t
 alk\ntitled “Robots vs Reality: Responsible Science Communication in the
 \nAttention Economy” at 4 pm on October 21st in DC 1351.
DTSTAMP:20260418T083048Z
END:VEVENT
BEGIN:VEVENT
UID:69e34138845c9
DTSTART;TZID=America/Toronto:20250225T100000
SEQUENCE:0
TRANSP:TRANSPARENT
DTEND;TZID=America/Toronto:20250225T104500
URL:https://uwaterloo.ca/robohub/events/tesla-recruitment-sessions
LOCATION:E7 7303/7363 200 University Ave West Waterloo ON N2L 3G1 Canada
SUMMARY:Tesla Recruitment Sessions
CLASS:PUBLIC
DESCRIPTION:Are you planning to graduate between now and December 2026? Are
  you\nlooking for a Summer or Fall 2025 co-op position or a full-time role
 ?\nThen these recruitment sessions are for you!\n\nThis visit will include
  engineers from Tesla focused on Tesla Bot\n(Optimus) Firmware\, Autopilot
 /Bot Tooling and Integration\, and Bot\nControls. There will also be refre
 shments available along with\nrecruitment specialists from Tesla to chat w
 ith about potential\npositions.
DTSTAMP:20260418T083048Z
END:VEVENT
BEGIN:VEVENT
UID:69e3413884fd0
DTSTART;TZID=America/Toronto:20250225T110000
SEQUENCE:0
TRANSP:TRANSPARENT
DTEND;TZID=America/Toronto:20250225T114500
URL:https://uwaterloo.ca/robohub/events/tesla-recruitment-sessions
LOCATION:E7 7303/7363 200 University Ave West Waterloo ON N2L 3G1 Canada
SUMMARY:Tesla Recruitment Sessions
CLASS:PUBLIC
DESCRIPTION:Are you planning to graduate between now and December 2026? Are
  you\nlooking for a Summer or Fall 2025 co-op position or a full-time role
 ?\nThen these recruitment sessions are for you!\n\nThis visit will include
  engineers from Tesla focused on Tesla Bot\n(Optimus) Firmware\, Autopilot
 /Bot Tooling and Integration\, and Bot\nControls. There will also be refre
 shments available along with\nrecruitment specialists from Tesla to chat w
 ith about potential\npositions.
DTSTAMP:20260418T083048Z
END:VEVENT
BEGIN:VEVENT
UID:69e3413885722
DTSTART;TZID=America/Toronto:20250225T120000
SEQUENCE:0
TRANSP:TRANSPARENT
DTEND;TZID=America/Toronto:20250225T124500
URL:https://uwaterloo.ca/robohub/events/tesla-recruitment-sessions
LOCATION:E7 7303/7363 200 University Ave West Waterloo ON N2L 3G1 Canada
SUMMARY:Tesla Recruitment Sessions
CLASS:PUBLIC
DESCRIPTION:Are you planning to graduate between now and December 2026? Are
  you\nlooking for a Summer or Fall 2025 co-op position or a full-time role
 ?\nThen these recruitment sessions are for you!\n\nThis visit will include
  engineers from Tesla focused on Tesla Bot\n(Optimus) Firmware\, Autopilot
 /Bot Tooling and Integration\, and Bot\nControls. There will also be refre
 shments available along with\nrecruitment specialists from Tesla to chat w
 ith about potential\npositions.
DTSTAMP:20260418T083048Z
END:VEVENT
BEGIN:VEVENT
UID:69e3413885ed9
DTSTART;TZID=America/Toronto:20240131T190000
SEQUENCE:0
TRANSP:TRANSPARENT
DTEND;TZID=America/Toronto:20240131T203000
URL:https://uwaterloo.ca/robohub/events/global-engagement-seminar-speaker-s
 eries
LOCATION:E5 - Engineering 5\, Room 3102 200 University Avenue West Waterloo
  ON N2L 3G1 Canada
SUMMARY:Global Engagement Seminar Speaker Series
CLASS:PUBLIC
DESCRIPTION:The Global Engagement Seminar: Me and My Robot is opening its s
 pecial\nlectures to the public for the first time! Join our 2024 Jarislow
 sky\nFellows\n[https://uwaterloo.ca/global-engagement-seminar/2024-jarislo
 wsky-fellows]\,\nleading experts and practitioners in the field\, as we ex
 plore the\nsocial\, physical\, and practical interfaces between humans and
  robots\nand what their presence in our everyday environments will mean fo
 r\nourselves as individuals and for society more broadly. \n\nEveryone is
  welcome - no registration required! \n\n_All lectures are taking place i
 n Engineering 5\, Room 3102 and include\na talk and Q&amp;A. _
DTSTAMP:20260418T083048Z
END:VEVENT
BEGIN:VEVENT
UID:69e341388697e
DTSTART;TZID=America/Toronto:20240207T200000
SEQUENCE:0
TRANSP:TRANSPARENT
DTEND;TZID=America/Toronto:20240207T213000
URL:https://uwaterloo.ca/robohub/events/global-engagement-seminar-speaker-s
 eries
LOCATION:E5 - Engineering 5\, Room 3102 200 University Avenue West Waterloo
  ON N2L 3G1 Canada
SUMMARY:Global Engagement Seminar Speaker Series
CLASS:PUBLIC
DESCRIPTION:The Global Engagement Seminar: Me and My Robot is opening its s
 pecial\nlectures to the public for the first time! Join our 2024 Jarislow
 sky\nFellows\n[https://uwaterloo.ca/global-engagement-seminar/2024-jarislo
 wsky-fellows]\,\nleading experts and practitioners in the field\, as we ex
 plore the\nsocial\, physical\, and practical interfaces between humans and
  robots\nand what their presence in our everyday environments will mean fo
 r\nourselves as individuals and for society more broadly. \n\nEveryone is
  welcome - no registration required! \n\n_All lectures are taking place i
 n Engineering 5\, Room 3102 and include\na talk and Q&amp;A. _
DTSTAMP:20260418T083048Z
END:VEVENT
BEGIN:VEVENT
UID:69e34138871c8
DTSTART;TZID=America/Toronto:20240214T190000
SEQUENCE:0
TRANSP:TRANSPARENT
DTEND;TZID=America/Toronto:20240214T203000
URL:https://uwaterloo.ca/robohub/events/global-engagement-seminar-speaker-s
 eries
LOCATION:E5 - Engineering 5\, Room 3102 200 University Avenue West Waterloo
  ON N2L 3G1 Canada
SUMMARY:Global Engagement Seminar Speaker Series
CLASS:PUBLIC
DESCRIPTION:The Global Engagement Seminar: Me and My Robot is opening its s
 pecial\nlectures to the public for the first time! Join our 2024 Jarislow
 sky\nFellows\n[https://uwaterloo.ca/global-engagement-seminar/2024-jarislo
 wsky-fellows]\,\nleading experts and practitioners in the field\, as we ex
 plore the\nsocial\, physical\, and practical interfaces between humans and
  robots\nand what their presence in our everyday environments will mean fo
 r\nourselves as individuals and for society more broadly. \n\nEveryone is
  welcome - no registration required! \n\n_All lectures are taking place i
 n Engineering 5\, Room 3102 and include\na talk and Q&amp;A. _
DTSTAMP:20260418T083048Z
END:VEVENT
BEGIN:VEVENT
UID:69e3413887958
DTSTART;TZID=America/Toronto:20240228T190000
SEQUENCE:0
TRANSP:TRANSPARENT
DTEND;TZID=America/Toronto:20240228T203000
URL:https://uwaterloo.ca/robohub/events/global-engagement-seminar-speaker-s
 eries
LOCATION:E5 - Engineering 5\, Room 3102 200 University Avenue West Waterloo
  ON N2L 3G1 Canada
SUMMARY:Global Engagement Seminar Speaker Series
CLASS:PUBLIC
DESCRIPTION:The Global Engagement Seminar: Me and My Robot is opening its s
 pecial\nlectures to the public for the first time! Join our 2024 Jarislow
 sky\nFellows\n[https://uwaterloo.ca/global-engagement-seminar/2024-jarislo
 wsky-fellows]\,\nleading experts and practitioners in the field\, as we ex
 plore the\nsocial\, physical\, and practical interfaces between humans and
  robots\nand what their presence in our everyday environments will mean fo
 r\nourselves as individuals and for society more broadly. \n\nEveryone is
  welcome - no registration required! \n\n_All lectures are taking place i
 n Engineering 5\, Room 3102 and include\na talk and Q&amp;A. _
DTSTAMP:20260418T083048Z
END:VEVENT
BEGIN:VEVENT
UID:69e34138880f2
DTSTART;TZID=America/Toronto:20240306T190000
SEQUENCE:0
TRANSP:TRANSPARENT
DTEND;TZID=America/Toronto:20240306T203000
URL:https://uwaterloo.ca/robohub/events/global-engagement-seminar-speaker-s
 eries
LOCATION:E5 - Engineering 5\, Room 3102 200 University Avenue West Waterloo
  ON N2L 3G1 Canada
SUMMARY:Global Engagement Seminar Speaker Series
CLASS:PUBLIC
DESCRIPTION:The Global Engagement Seminar: Me and My Robot is opening its s
 pecial\nlectures to the public for the first time! Join our 2024 Jarislow
 sky\nFellows\n[https://uwaterloo.ca/global-engagement-seminar/2024-jarislo
 wsky-fellows]\,\nleading experts and practitioners in the field\, as we ex
 plore the\nsocial\, physical\, and practical interfaces between humans and
  robots\nand what their presence in our everyday environments will mean fo
 r\nourselves as individuals and for society more broadly. \n\nEveryone is
  welcome - no registration required! \n\n_All lectures are taking place i
 n Engineering 5\, Room 3102 and include\na talk and Q&amp;A. _
DTSTAMP:20260418T083048Z
END:VEVENT
BEGIN:VEVENT
UID:69e3413888943
DTSTART;TZID=America/Toronto:20240320T190000
SEQUENCE:0
TRANSP:TRANSPARENT
DTEND;TZID=America/Toronto:20240320T203000
URL:https://uwaterloo.ca/robohub/events/global-engagement-seminar-speaker-s
 eries
LOCATION:E5 - Engineering 5\, Room 3102 200 University Avenue West Waterloo
  ON N2L 3G1 Canada
SUMMARY:Global Engagement Seminar Speaker Series
CLASS:PUBLIC
DESCRIPTION:The Global Engagement Seminar: Me and My Robot is opening its s
 pecial\nlectures to the public for the first time! Join our 2024 Jarislow
 sky\nFellows\n[https://uwaterloo.ca/global-engagement-seminar/2024-jarislo
 wsky-fellows]\,\nleading experts and practitioners in the field\, as we ex
 plore the\nsocial\, physical\, and practical interfaces between humans and
  robots\nand what their presence in our everyday environments will mean fo
 r\nourselves as individuals and for society more broadly. \n\nEveryone is
  welcome - no registration required! \n\n_All lectures are taking place i
 n Engineering 5\, Room 3102 and include\na talk and Q&amp;A. _
DTSTAMP:20260418T083048Z
END:VEVENT
BEGIN:VEVENT
UID:69e341388913c
DTSTART;TZID=America/Toronto:20240405T090000
SEQUENCE:0
TRANSP:TRANSPARENT
DTEND;TZID=America/Toronto:20240405T160000
URL:https://uwaterloo.ca/robohub/events/waterloo-robohub-spring-career-fair
LOCATION:E7 - Second Floor Event Space 200 University Ave West Waterloo ON 
 N2L 3G1 Canada
SUMMARY:Waterloo RoboHub Spring Career Fair
CLASS:PUBLIC
DESCRIPTION:JOIN US FOR THE WATERLOO ROBOHUB SPRING CAREER FAIR!\n\nAre you
  interested in a career in robotics but not sure where to\nstart? Want to 
 have the chance to talk to representatives from various\ncompanies and ins
 titutions where you can pursue a career in robotics\nand related fields? I
 f so\, join us for the Waterloo RoboHub Spring\nCareer Fair!\n\nSee below 
 for a list of confirmed companies\, departments\, labs\, and\nother organi
 zations who would like to talk to you about pursuing a\ncareer in robotics
 !\n\nIf your organization would like to join us at the career fair\, email
 \nus at robohub@uwaterloo.ca\n[https://mail.google.com/mail/?view=cm&amp;fs=1
 &amp;tf=1&amp;to=robohub@uwaterloo.ca] to\nreserve a booth!
DTSTAMP:20260418T083048Z
END:VEVENT
END:VCALENDAR