BEGIN:VCALENDAR
VERSION:2.0
PRODID:-//Drupal iCal API//EN
X-WR-CALNAME:Events items teaser
X-WR-TIMEZONE:America/Toronto
BEGIN:VTIMEZONE
TZID:America/Toronto
X-LIC-LOCATION:America/Toronto
BEGIN:DAYLIGHT
TZNAME:EDT
TZOFFSETFROM:-0500
TZOFFSETTO:-0400
DTSTART:20250309T070000
END:DAYLIGHT
BEGIN:DAYLIGHT
TZNAME:EDT
TZOFFSETFROM:-0500
TZOFFSETTO:-0400
DTSTART:20240310T070000
END:DAYLIGHT
BEGIN:DAYLIGHT
TZNAME:EDT
TZOFFSETFROM:-0500
TZOFFSETTO:-0400
DTSTART:20230312T070000
END:DAYLIGHT
BEGIN:DAYLIGHT
TZNAME:EDT
TZOFFSETFROM:-0500
TZOFFSETTO:-0400
DTSTART:20160313T070000
END:DAYLIGHT
BEGIN:DAYLIGHT
TZNAME:EDT
TZOFFSETFROM:-0500
TZOFFSETTO:-0400
DTSTART:20150308T070000
END:DAYLIGHT
BEGIN:STANDARD
TZNAME:EST
TZOFFSETFROM:-0400
TZOFFSETTO:-0500
DTSTART:20251102T060000
END:STANDARD
BEGIN:STANDARD
TZNAME:EST
TZOFFSETFROM:-0400
TZOFFSETTO:-0500
DTSTART:20241103T060000
END:STANDARD
BEGIN:STANDARD
TZNAME:EST
TZOFFSETFROM:-0400
TZOFFSETTO:-0500
DTSTART:20221106T060000
END:STANDARD
BEGIN:STANDARD
TZNAME:EST
TZOFFSETFROM:-0400
TZOFFSETTO:-0500
DTSTART:20161106T060000
END:STANDARD
BEGIN:STANDARD
TZNAME:EST
TZOFFSETFROM:-0400
TZOFFSETTO:-0500
DTSTART:20141102T060000
END:STANDARD
END:VTIMEZONE
BEGIN:VEVENT
UID:69d76a88dcea5
DTSTART;TZID=America/Toronto:20251210T093000
SEQUENCE:0
TRANSP:TRANSPARENT
DTEND;TZID=America/Toronto:20251210T120000
URL:https://uwaterloo.ca/rooney-lab/events/2025-duckweed-symposium-0
SUMMARY:2025 Duckweed Symposium
CLASS:PUBLIC
DESCRIPTION:Join us for our 2025 Duckweed Symposium\, where we will be prov
 iding\nupdates and presenting preliminary results on our collaborative\ndu
 ckweed project.\n\nFor more information\, please contact our lead lab tech
 \, Megan Jordan.
DTSTAMP:20260409T085952Z
END:VEVENT
BEGIN:VEVENT
UID:69d76a88dffc4
DTSTART;TZID=America/Toronto:20250212T130000
SEQUENCE:0
TRANSP:TRANSPARENT
DTEND;TZID=America/Toronto:20250212T140000
URL:https://uwaterloo.ca/rooney-lab/events/international-joint-commissions-
 great-lakes-science-advisory
SUMMARY:International Joint Commission's Great Lakes Science Advisory Board
 :\nMicroplastics in the Great Lakes
CLASS:PUBLIC
DESCRIPTION:Microplastics are present in all five of the Great Lakes\, but 
 there is\nno coordinated\, basinwide effort to monitor and report on the s
 tatus\nof plastic pollution. In a new report\n[https://ijc.us2.list-mana
 ge.com/track/click?u=6f596332b572c1092ac6c20a3&amp;id=9ffd01d5d0&amp;e=081eef5987]
 \,\nthe International Joint Commission (IJC)’s Great Lakes Science\nAdv
 isory Board\n[https://ijc.us2.list-manage.com/track/click?u=6f596332b572c1
 092ac6c20a3&amp;id=e03d6bb590&amp;e=081eef5987] proposes\nregional coordination t
 o systematically measure Great Lakes\nmicroplastics.\n\nThe board is hosti
 ng a ONE-HOUR PUBLIC WEBINAR on the report’s\nfindings AT 1 P.M. (ET)
  WEDNESDAY\, FEBRUARY 12\, 2025. Experts from\nthe work group will summari
 ze the report and answer audience\nquestions.\n\nAdvanced registration is 
 required for this free public webinar via the\nevent website (ZOOM)\n[/us0
 6web.zoom.us/webinar/register/WN_wz886eCjSo2C_d9pKPpspw].
DTSTAMP:20260409T085952Z
END:VEVENT
BEGIN:VEVENT
UID:69d76a88e0b54
DTSTART;TZID=America/Toronto:20231023T120000
SEQUENCE:0
TRANSP:TRANSPARENT
DTEND;TZID=America/Toronto:20231023T120000
URL:https://uwaterloo.ca/rooney-lab/events/second-annual-wetland-cleanup
LOCATION:Waterloo ON Canada
SUMMARY:Second Annual Wetland Cleanup
CLASS:PUBLIC
DESCRIPTION:Following the success of last year's event [/rooney-lab/node/13
 5]\, the\nWaterloo Wetland Lab is happy to announce that we are leading a
 \nSECOND ANNUAL WETLAND CLEANUP on November 9\, 2023. Whether you're a\nn
 ature enthusiast\, an environmental advocate\, or just looking for a\nway 
 to spend some time in an urban green space\, this event is for you.
DTSTAMP:20260409T085952Z
END:VEVENT
BEGIN:VEVENT
UID:69d76a88e1ec6
DTSTART;TZID=America/Toronto:20221109T120000
SEQUENCE:0
TRANSP:TRANSPARENT
DTEND;TZID=America/Toronto:20221109T120000
URL:https://uwaterloo.ca/rooney-lab/events/wetland-cleanup
SUMMARY:Wetland Cleanup
CLASS:PUBLIC
DESCRIPTION:The Waterloo Wetland Laboratory is leading a wetland cleanup No
 vember\n9\, 2022 to emphasize the importance of urban wetlands\, and to b
 ring\nthe community together in an act of stewardship to keep a local\nwet
 land clean.\n\nThe cleanup is from 12:00 - 2:00 PM. We will muster at\nFi
 scher-Hallman Road and Columbia Street (across from the Sobeys) for\na qui
 ck presentation before the cleanup begins.
DTSTAMP:20260409T085952Z
END:VEVENT
BEGIN:VEVENT
UID:69d76a88e29d5
DTSTART;VALUE=DATE:20170202
SEQUENCE:0
TRANSP:TRANSPARENT
DTEND;VALUE=DATE:20170203
URL:https://uwaterloo.ca/rooney-lab/events/celebrate-world-wetlands-day
SUMMARY:Celebrate World Wetlands Day
CLASS:PUBLIC
DESCRIPTION:Celebrate World Wetlands Day with the University of Waterloo. W
 e are\nhosting a Research Symposium\, Public Lecture\, and Student Poster\
 nShow.  Find out more details here\n[http://uwaterloo.ca/world-wetlands-d
 ay/].
X-MICROSOFT-CDO-ALLDAYEVENT:TRUE
DTSTAMP:20260409T085952Z
END:VEVENT
BEGIN:VEVENT
UID:69d76a88e3248
DTSTART;TZID=America/Toronto:20151027T143000
SEQUENCE:0
TRANSP:TRANSPARENT
DTEND;TZID=America/Toronto:20151027T143000
URL:https://uwaterloo.ca/rooney-lab/events/eco-hydrology-prairie-wetlands-a
 nd-management-implications
SUMMARY:Eco-hydrology of prairie wetlands and management implications:\nSyn
 thesis of a 50-year study
CLASS:PUBLIC
DESCRIPTION:ECO-HYDROLOGY OF PRAIRIE WETLANDS AND MANAGEMENT IMPLICATIONS:\
 nSYNTHESIS OF A 50-YEAR STUDY\n\nSPEAKER:         Masaki Hayashi\n
 \nAFFILIATION:     Department of Geoscience\, University of Calgary\,\
 nCanada\n\nLOCATION: QNC 1501\, University of Waterloo (2:30 pm start)
DTSTAMP:20260409T085952Z
END:VEVENT
END:VCALENDAR