BEGIN:VCALENDAR
VERSION:2.0
PRODID:-//Drupal iCal API//EN
X-WR-CALNAME:Events items teaser
X-WR-TIMEZONE:America/Toronto
BEGIN:VTIMEZONE
TZID:America/Toronto
X-LIC-LOCATION:America/Toronto
BEGIN:DAYLIGHT
TZNAME:EDT
TZOFFSETFROM:-0500
TZOFFSETTO:-0400
DTSTART:20240310T070000
END:DAYLIGHT
BEGIN:DAYLIGHT
TZNAME:EDT
TZOFFSETFROM:-0500
TZOFFSETTO:-0400
DTSTART:20220313T070000
END:DAYLIGHT
BEGIN:STANDARD
TZNAME:EST
TZOFFSETFROM:-0400
TZOFFSETTO:-0500
DTSTART:20231105T060000
END:STANDARD
BEGIN:STANDARD
TZNAME:EST
TZOFFSETFROM:-0400
TZOFFSETTO:-0500
DTSTART:20221106T060000
END:STANDARD
END:VTIMEZONE
BEGIN:VEVENT
UID:69ea8089728fd
DTSTART;TZID=America/Toronto:20240603T133000
SEQUENCE:0
TRANSP:TRANSPARENT
DTEND;TZID=America/Toronto:20240603T143000
URL:https://uwaterloo.ca/school-environment-enterprise-development/events/i
 ndustrial-ecology-group-hosts-professor-chris-kennedy-talk
LOCATION:EV3 - Environment 3 200 University Avenue West Waterloo ON N2L 3G1
  Canada
SUMMARY:Industrial Ecology Group hosts Professor Chris Kennedy for a talk J
 une\n3\, 2024
CLASS:PUBLIC
DESCRIPTION:Please join the Industrial Ecology group on Monday\, June 3rd a
 t 1:30pm\nfor a talk by Professor Chris Kennedy in EV3-4408. 30 minute\npr
 esentation followed by a Q &amp; A. \n\nENERGY CONSTRAINTS ON MACROECONOMIC PA
 RADIGMS\n\nReducing greenhouse gas emissions requires enormous changes to 
 energy\nsupply\; but what kind of changes to the economy will this entail?
  \nSeveral previous studies have demonstrated the substantial influence\n
 of energy on the US economy. This paper goes further by reinterpreting\nma
 jor macroeconomic paradigms in terms of fundamental changes to\nenergy sup
 ply. \n\nThe three US macroeconomic paradigms of the twentieth century\, d
 efined\nby transformational economic shocks\, had distinct energy\ncharact
 eristics. The pre-Keynesian era (to 1929) was dominated by\ncoal\; the Key
 nesian era (1930-1973) witnessed substantial growth with\nunconstrained ac
 cess to abundant domestic oil supplies\; and the\nMonetarist era (after ~1
 973) was energy constrained. Moreover\, the\neconomic shocks that precipit
 ated paradigm changes were rooted in\nchanges to energy supply. The Great 
 Crash of 1929 followed from\ndiscovery of vast oil fields in the US Southw
 est. The collapse of the\nBretton Woods system in 1971 occurred in part du
 e to US peak\nconventional oil production\; and together they established 
 the\nconditions for the First Oil Crisis of 1973. \n\nBIOGRAPHY \n\nChris 
 has worked for over 25-years on strategies for addressing global\nclimate 
 change\, drawing upon economics\, technology\, policy and\nindustrial ecol
 ogy perspectives. Most of his current work involves\nanalysis of national 
 economies towards deep decarbonization. His\nprevious research helped the 
 development of a standard approach for\ncity-wide greenhouse gas accountin
 g\, used to support climate finance.\nHis wider scholarship includes contr
 ibutions explaining the energetic\nbasis of the Industrial Revolution\, an
 d the Great Depression.\n\nChris was the inaugural chair of a new ‘green
 ’ Civil Engineering\nDepartment at the University of Victoria. He is a m
 ember of the Global\nCities Institute at the University of Toronto\, a mem
 ber of UVic’s\nInstitute for Integrated Energy Systems\, and a Fellow of
  the Canadian\nAcademy of Engineering. Chris is a former President of the\
 nInternational Society for Industrial Ecology\; and has been a visiting\np
 rofessor at Oxford University and ETH Zürich. In 2011/12\, he was\nsecond
 ed to the OECD in Paris\, to support the Working Party on Climate\nInvestm
 ent and Development.
DTSTAMP:20260423T202649Z
END:VEVENT
BEGIN:VEVENT
UID:69ea808977429
DTSTART;TZID=America/Toronto:20240229T073000
SEQUENCE:0
TRANSP:TRANSPARENT
DTEND;TZID=America/Toronto:20240229T084500
URL:https://uwaterloo.ca/school-environment-enterprise-development/events/f
 ebruary-v2v-thematic-webinar
SUMMARY:February V2V Thematic Webinar
CLASS:PUBLIC
DESCRIPTION:TITLE OF THE WEBINAR: NAVIGATING WAVES OF CHANGE: CHRONICLES 
 OF\nRESILIENCE AND TRANSITIONS IN BANGLADESH SMALL-SCALE FISHERIES\n\nSmal
 l-scale fisheries in Bangladesh provide a dynamic setting of\necosystems\,
  vulnerabilities\, adaptation\, resilience\, and uncertainties\ncaused by 
 changing climate and blue growth. As the intensity and\nfrequency of extre
 me weather events are expected to increase\, it is\ncrucial to understand 
 how fishers and fish resources are affected by\nit and how their daily res
 ponses contribute to their ability to adapt\nto changing weather condition
 s. Using a mixed method approach\, our\nfour-year research identifies and 
 investigates the impacts\, response\nand adaptation strategies adopted by 
 small-scale fishers in\nMoheshkhali and Patharghata upazila of Bangladesh 
 to deal with extreme\nweather events and mega development projects.\n\nSPE
 AKER: Samiya Selim| Director and Professor of the Center for\nSustainabl
 e Development\, University of Liberal Arts\, Bangladesh. \n\nWatch this 
 webinar live and participate in its Q&amp;A session\n[https://youtube.com/liv
 e/S2Yau4PPTnM?feature=share]\n\n 
DTSTAMP:20260423T202649Z
END:VEVENT
BEGIN:VEVENT
UID:69ea808978133
DTSTART;TZID=America/Toronto:20240126T080000
SEQUENCE:0
TRANSP:TRANSPARENT
DTEND;TZID=America/Toronto:20240126T091500
URL:https://uwaterloo.ca/school-environment-enterprise-development/events/v
 2v-food-and-nutrition-security-caribbean
SUMMARY:V2V: Food and Nutrition In-(security) in the Caribbean
CLASS:PUBLIC
DESCRIPTION:V2V THEMATIC WEBINAR IN JANUARY:\n\nSmall Island Developing
  States (SIDS) are on the frontlines of climate\nchange and consistently r
 ank high on a range of risk and climate\nvulnerability indices. In this ta
 lk\, a socio-metabolic research (SMR)\nperspective will be adopted to anal
 yze the challenges of food and\nnutrition insecurity in the Caribbean. Fro
 m being a net exporter of\nfood\, the region underwent a transition in the
  1970s and now imports\n83% of its total food requirements. Yet\, 67.5% of
  the population faces\nfood and nutrition insecurity\, in contrast to the 
 global average of\n27.6%. What does this mean for the region’s food secu
 rity when\nsubject to shocks such as the Covid-19 pandemic? And where are 
 the\nbarriers\, and opportunities for a transition from vulnerability to\n
 viability?\n\nWatch this webinar live and participate in its Q&amp;A session
 \n[https://youtube.com/live/fNKo_cmgoSo?feature=share]\n 
DTSTAMP:20260423T202649Z
END:VEVENT
BEGIN:VEVENT
UID:69ea808978f9d
DTSTART;TZID=America/Toronto:20230217T080000
SEQUENCE:0
TRANSP:TRANSPARENT
DTEND;TZID=America/Toronto:20230217T091500
URL:https://uwaterloo.ca/school-environment-enterprise-development/events/v
 2v-thematic-webinar-february
SUMMARY:V2V Thematic Webinar in February
CLASS:PUBLIC
DESCRIPTION:This talk provides a high-level overview of the various tools a
 nd\nperspectives for undertaking gender-focused or feminist analysis in\nr
 esource sectors such as small-scale fisheries. Drawing from gender\nstudie
 s\, feminist political ecology\, feminist political economy\, and\npolitic
 al science\, this talk will dispel the idea that gender analysis\nmeans on
 ly focusing on women. It will show how understanding the many\ndimensions 
 of gender roles and relations can improve the analysis of\nresource manage
 ment and economic activity\, expand our understanding of\nvulnerability an
 d empowerment\, and advance policy-relevant outcomes.\n\nTITLE OF THE WEBI
 NAR: Tools for Gender Analysis: Understanding\nVulnerability and Empowerm
 ent\nDATE: Feb 17\, 2023 (Friday)\nTIME: 1:00 PM UTC to 2:15 PM UTC (8:0
 0 AM EST to 9:15 AM EST - 6:30\nPM IST to 7:45 PM IST - Convert to your l
 ocal time here\n[https://www.worldtimebuddy.com/])\nSPEAKER: Dr. Andrea 
 M. Collins\n[https://www.v2vglobalpartnership.org/v2v-members/andrea-m.-co
 llins] |\nAssociate Professor in the School of Environment\, Resources and
 \nSustainability (SERS) and the Balsillie School of International\nAffairs
  (BSIA) at the University of Waterloo\nYOUTUBE LINK: HTTPS://YOUTUBE.COM/
 WATCH?V=6ORJTYHA3EA\n[https://youtube.com/watch?v=6oRJTYHa3eA] (watch this
  webinar live and\nparticipate in its Q&amp;A session)
DTSTAMP:20260423T202649Z
END:VEVENT
BEGIN:VEVENT
UID:69ea808979b75
DTSTART;TZID=America/Toronto:20230127T080000
SEQUENCE:0
TRANSP:TRANSPARENT
DTEND;TZID=America/Toronto:20230127T091500
URL:https://uwaterloo.ca/school-environment-enterprise-development/events/v
 2v-thematic-webinar-0
SUMMARY:V2V Thematic Webinar
CLASS:PUBLIC
DESCRIPTION:TITLE OF THE WEBINAR: ​Community resilience: A framework for
 \nnon-traditional field research\n\nThis talk dwells upon different resear
 ch paradigms such as\nHypothesis-oriented\, Assessment-oriented\, Action-o
 riented\,\nSystems-oriented\, and Social adaptive frameworks. The motivati
 on\nbehind this talk is to discuss research that goes beyond the\nconventi
 onally defined domains of science\; the relevance of\nnon-expert-based kno
 wledge to offer solutions to complex social and\nenvironmental problems\, 
 and the research that can bring significant\nimpacts on people's behavior 
 by small endeavors. The implications of\nthe novel and non-traditional res
 earch framework for vulnerability to\nviability transitions will be discus
 sed as a way forward for building\nresilient communities in a variety of r
 esource contexts.\n\nDATE: Jan 27\, 2023 (Friday)\n\nTIME: 8:00 AM EST t
 o 9:15 AM EST (1:00 PM UTC to 2:15 PM UTC)\n\nSPEAKER: Dr. Manas Kumar Ma
 ndal | Cognitive neuropsychologist serving\nas the distinguished visiting 
 professor at the Indian Institute of\nTechnology Kharagpur\n\nYOUTUBE LINK
 : HTTP://YOUTU.BE/HHQ3AMB1920\n[https://www.google.com/url?q=http://youtu
 .be/hHq3AMB1920&amp;sa=D&amp;source=calendar&amp;usd=2&amp;usg=AOvVaw3RhChgR5QYihkL6ZyhKXI
 2] (watch\nthis webinar live and participate in its Q&amp;A session)\n\nCLICK
  HERE\n[https://www.google.com/url?q=https://www.v2vglobalpartnership.org
 /_files/ugd/fd58f8_515b93b66f004e368d0654d82e019070.pdf?index%3Dtrue&amp;sa=D&amp;
 source=calendar&amp;usd=2&amp;usg=AOvVaw2GI1Kpbn_00cs44JLKe78U] TO\nVIEW THE POST
 ER OF THIS WEBINAR AND CLICKHERE\n[https://evt.to/aisdeimgw] TO ADD THIS E
 VENT TO YOUR CALENDAR 
DTSTAMP:20260423T202649Z
END:VEVENT
BEGIN:VEVENT
UID:69ea80897a9e4
DTSTART;TZID=America/Toronto:20220826T080000
SEQUENCE:0
TRANSP:TRANSPARENT
DTEND;TZID=America/Toronto:20220826T091500
URL:https://uwaterloo.ca/school-environment-enterprise-development/events/v
 2v-thematic-webinar-series
SUMMARY:V2V Thematic Webinar Series
CLASS:PUBLIC
DESCRIPTION:This talk will briefly introduce two emerging approaches -\nNat
 ure-based Solutions (NbS) and Locally-led Adaptation (LLA) - in\ncontext o
 f climate crisis and will discuss the currently available\nstandards/princ
 iples related to them.
DTSTAMP:20260423T202649Z
END:VEVENT
BEGIN:VEVENT
UID:69ea80897b3f2
DTSTART;TZID=America/Toronto:20220603T130900
SEQUENCE:0
TRANSP:TRANSPARENT
DTEND;TZID=America/Toronto:20220603T130900
URL:https://uwaterloo.ca/school-environment-enterprise-development/events/v
 2v-thematic-webinar-series-5
SUMMARY:V2V Thematic Webinar Series
CLASS:PUBLIC
DESCRIPTION:Transformations towards ocean equity and blue justice are neede
 d to\naddress the inequitable distribution of access to ocean benefits and
 \nresources\, as well as disproportionate exposure to harms. Yet\, actions
 \nthat fundamentally restructure relationships between people and oceans\n
 are highly political and can produce substantial risks for coastal\ncommun
 ities and the marine environment. This seminar explores recent\nscholarshi
 p and practice on navigating this critical and complex\nspace.
DTSTAMP:20260423T202649Z
END:VEVENT
BEGIN:VEVENT
UID:69ea80897bde4
DTSTART;TZID=America/Toronto:20220527T080000
SEQUENCE:0
TRANSP:TRANSPARENT
DTEND;TZID=America/Toronto:20220527T091500
URL:https://uwaterloo.ca/school-environment-enterprise-development/events/v
 2v-thematic-webinar-series-4
SUMMARY:V2V Thematic Webinar Series
CLASS:PUBLIC
DESCRIPTION:V2V theme poster
DTSTAMP:20260423T202649Z
END:VEVENT
BEGIN:VEVENT
UID:69ea80897ca5b
DTSTART;TZID=America/Toronto:20220429T093000
SEQUENCE:0
TRANSP:TRANSPARENT
DTEND;TZID=America/Toronto:20220429T104500
URL:https://uwaterloo.ca/school-environment-enterprise-development/events/v
 2v-thematic-webinar-series-3
SUMMARY:V2V Thematic Webinar Series
CLASS:PUBLIC
DESCRIPTION:There are several aspects of transitioning from vulnerability t
 o\nviability. The primary approach identifies vulnerabilities and tries\nt
 o reduce them. But what happens when new kinds of shocks impact the\nSSF? 
 These may include changes in markets and fishery regulations\,\nclimate ch
 ange\, and impacts of the Blue Economy.
DTSTAMP:20260423T202649Z
END:VEVENT
BEGIN:VEVENT
UID:69ea80897d5fc
DTSTART;TZID=America/Toronto:20220324T150000
SEQUENCE:0
TRANSP:TRANSPARENT
DTEND;TZID=America/Toronto:20220324T163000
URL:https://uwaterloo.ca/school-environment-enterprise-development/events/g
 reen-entrepreneurship-online-workshop-series-championing
SUMMARY:Green Entrepreneurship online workshop series - “Championing\nInd
 igenous Youth Startups”
CLASS:PUBLIC
DESCRIPTION:Please join University of Waterloo’s Entrepreneurship @ Envi
 ronment\nOffice (E@E)\n[https://uwaterloo.ca/environment/entrepreneurship-
 environment] Green\nEntrepreneurship online workshop series continues TODA
 Y\, Thursday\,\nMarch 24 at 3:00 pm with a workshop on “_CHAMPIONING IN
 DIGENOUS\nYOUTH STARTUPS_”.
DTSTAMP:20260423T202649Z
END:VEVENT
END:VCALENDAR