BEGIN:VCALENDAR
VERSION:2.0
PRODID:-//Drupal iCal API//EN
X-WR-CALNAME:Events items teaser
X-WR-TIMEZONE:America/Toronto
BEGIN:VTIMEZONE
TZID:America/Toronto
X-LIC-LOCATION:America/Toronto
BEGIN:DAYLIGHT
TZNAME:EDT
TZOFFSETFROM:-0500
TZOFFSETTO:-0400
DTSTART:20230312T070000
END:DAYLIGHT
BEGIN:STANDARD
TZNAME:EST
TZOFFSETFROM:-0400
TZOFFSETTO:-0500
DTSTART:20231105T060000
END:STANDARD
END:VTIMEZONE
BEGIN:VEVENT
UID:69ea4376067cd
DTSTART;TZID=America/Toronto:20240307T170000
SEQUENCE:0
TRANSP:TRANSPARENT
DTEND;TZID=America/Toronto:20240307T210000
URL:https://uwaterloo.ca/school-of-accounting-and-finance/events/saf-opport
 unities-accounting-and-finance-night-2024
LOCATION:St. George Banquet Hall 665 King St North Waterloo ON N2J 4G8 Cana
 da
SUMMARY:SAF Opportunities in Accounting and Finance Night 2024
CLASS:PUBLIC
DESCRIPTION:Employers from the various professional sectors related to acco
 unting\nand finance roles will be there to meet SAF students.
DTSTAMP:20260423T160614Z
END:VEVENT
END:VCALENDAR