BEGIN:VCALENDAR
VERSION:2.0
PRODID:-//Drupal iCal API//EN
X-WR-CALNAME:Events items teaser
X-WR-TIMEZONE:America/Toronto
BEGIN:VTIMEZONE
TZID:America/Toronto
X-LIC-LOCATION:America/Toronto
BEGIN:DAYLIGHT
TZNAME:EDT
TZOFFSETFROM:-0500
TZOFFSETTO:-0400
DTSTART:20240310T070000
END:DAYLIGHT
BEGIN:STANDARD
TZNAME:EST
TZOFFSETFROM:-0400
TZOFFSETTO:-0500
DTSTART:20231105T060000
END:STANDARD
END:VTIMEZONE
BEGIN:VEVENT
UID:69ea5be928f94
DTSTART;TZID=America/Toronto:20240524T110000
SEQUENCE:0
TRANSP:TRANSPARENT
DTEND;TZID=America/Toronto:20240524T140000
URL:https://uwaterloo.ca/school-of-accounting-and-finance/events/saf-profes
 sional-designations-forum-2024
SUMMARY:SAF Professional Designations Forum 2024
CLASS:PUBLIC
DESCRIPTION:SAF Professional Designations Forum 2024
DTSTAMP:20260423T175033Z
END:VEVENT
END:VCALENDAR