BEGIN:VCALENDAR
VERSION:2.0
PRODID:-//Drupal iCal API//EN
X-WR-CALNAME:Events items teaser
X-WR-TIMEZONE:America/Toronto
BEGIN:VTIMEZONE
TZID:America/Toronto
X-LIC-LOCATION:America/Toronto
BEGIN:DAYLIGHT
TZNAME:EDT
TZOFFSETFROM:-0500
TZOFFSETTO:-0400
DTSTART:20240310T070000
END:DAYLIGHT
BEGIN:STANDARD
TZNAME:EST
TZOFFSETFROM:-0400
TZOFFSETTO:-0500
DTSTART:20231105T060000
END:STANDARD
END:VTIMEZONE
BEGIN:VEVENT
UID:69ea18b515915
DTSTART;TZID=America/Toronto:20240921T090000
SEQUENCE:0
TRANSP:TRANSPARENT
DTEND;TZID=America/Toronto:20240921T160000
URL:https://uwaterloo.ca/school-of-accounting-and-finance/events/launch-you
 r-career-2024
LOCATION:FED - Federation Hall 200 University Ave. W N2L3G1\, Waterloo\, ON
  ON N2L3G5 Canada
SUMMARY:Launch Your Career 2024
CLASS:PUBLIC
DESCRIPTION:WELCOME TO THE SCHOOL OF ACCOUNTING AND FINANCE (SAF)!\n\nAs a 
 Waterloo SAF student\, you are an integral part of our mandatory\nco-op pr
 ogram\, and one of the first steps on your co-op journey is\nparticipating
  in the Launch Your Career (LYC) conference.
DTSTAMP:20260423T130349Z
END:VEVENT
END:VCALENDAR