BEGIN:VCALENDAR
VERSION:2.0
PRODID:-//Drupal iCal API//EN
X-WR-CALNAME:Events items teaser
X-WR-TIMEZONE:America/Toronto
BEGIN:VTIMEZONE
TZID:America/Toronto
X-LIC-LOCATION:America/Toronto
BEGIN:DAYLIGHT
TZNAME:EDT
TZOFFSETFROM:-0500
TZOFFSETTO:-0400
DTSTART:20240310T070000
END:DAYLIGHT
BEGIN:STANDARD
TZNAME:EST
TZOFFSETFROM:-0400
TZOFFSETTO:-0500
DTSTART:20241103T060000
END:STANDARD
END:VTIMEZONE
BEGIN:VEVENT
UID:69ea2cef4d39d
DTSTART;TZID=America/Toronto:20250306T180000
SEQUENCE:0
TRANSP:TRANSPARENT
DTEND;TZID=America/Toronto:20250306T200000
URL:https://uwaterloo.ca/school-of-accounting-and-finance/events/saf-opport
 unities-accounting-and-finance-night-2025
LOCATION:St. George Banquet Hall 665 King St North Waterloo ON N2J 4G8 Cana
 da
SUMMARY:SAF Opportunities in Accounting and Finance Night 2025
CLASS:PUBLIC
DESCRIPTION:SAF students from classes 2025-29 are invited to meet employers
  from\nvarious professional sectors related to accounting and finance role
 s\nat this annual networking event hosted by the School of Accounting and\
 nFinance.\n\nREGISTRATION DEADLINE: FEBRUARY 13\, 2025.
DTSTAMP:20260423T143007Z
END:VEVENT
END:VCALENDAR