BEGIN:VCALENDAR
VERSION:2.0
PRODID:-//Drupal iCal API//EN
X-WR-CALNAME:Events items teaser
X-WR-TIMEZONE:America/Toronto
BEGIN:VTIMEZONE
TZID:America/Toronto
X-LIC-LOCATION:America/Toronto
BEGIN:DAYLIGHT
TZNAME:EDT
TZOFFSETFROM:-0500
TZOFFSETTO:-0400
DTSTART:20250309T070000
END:DAYLIGHT
BEGIN:STANDARD
TZNAME:EST
TZOFFSETFROM:-0400
TZOFFSETTO:-0500
DTSTART:20241103T060000
END:STANDARD
END:VTIMEZONE
BEGIN:VEVENT
UID:69ea437cec48a
DTSTART;TZID=America/Toronto:20250523T110000
SEQUENCE:0
TRANSP:TRANSPARENT
DTEND;TZID=America/Toronto:20250523T140000
URL:https://uwaterloo.ca/school-of-accounting-and-finance/events/saf-profes
 sional-designations-forum-2025
SUMMARY:SAF Professional Designations Forum 2025
CLASS:PUBLIC
DESCRIPTION:SAF Professional Designations Forum 2025\n\nSAF students\, come
  to the Professional Designations Forum to hear\nabout the designations th
 at align with the courses you are taking and\nthe work term experiences yo
 u are gaining through Co-op.\n\nSpeak to representatives at their booths a
 nd hear a \"head-to-head\"\ndescription of the designations at the Battle 
 of the Designations\npresentation.\n\nGet your questions answered and see 
 if you want one or more of the\ndesignations.
DTSTAMP:20260423T160620Z
END:VEVENT
END:VCALENDAR