BEGIN:VCALENDAR
VERSION:2.0
PRODID:-//Drupal iCal API//EN
X-WR-CALNAME:Events items teaser
X-WR-TIMEZONE:America/Toronto
BEGIN:VTIMEZONE
TZID:America/Toronto
X-LIC-LOCATION:America/Toronto
BEGIN:DAYLIGHT
TZNAME:EDT
TZOFFSETFROM:-0500
TZOFFSETTO:-0400
DTSTART:20260308T070000
END:DAYLIGHT
BEGIN:STANDARD
TZNAME:EST
TZOFFSETFROM:-0400
TZOFFSETTO:-0500
DTSTART:20251102T060000
END:STANDARD
END:VTIMEZONE
BEGIN:VEVENT
UID:69ea5bd5ca607
DTSTART;TZID=America/Toronto:20260522T100000
SEQUENCE:0
TRANSP:TRANSPARENT
DTEND;TZID=America/Toronto:20260522T140000
URL:https://uwaterloo.ca/school-of-accounting-and-finance/events/saf-profes
 sional-designations-day-2026
LOCATION:STC - Science Teaching Complex 200 University Ave West Waterloo ON
  N2L 3G1 Canada
SUMMARY:SAF Professional Designations Day 2026
CLASS:PUBLIC
DESCRIPTION:SAF Professional Designations Day 2026\n\nChoosing the right co
 urses\, specialization\, and professional\ndesignation can play a major r
 ole in shaping your career. SAF’S\nPROFESSIONAL DESIGNATIONS DAY brin
 gs these pieces together\, helping\nyou understand how your academic choic
 es connect to future\nopportunities. \n\nThe event is CONFERENCE-STYLE\,
  allowing you to attend presentations\nand workshops that are most relevan
 t to your goals.\nWhether you’re exploring potential designations\, pl
 anning\nyour specialization or preparing for upcoming certification\nr
 equirements\, this event provides the information and connections you\nnee
 d to move forward. 
DTSTAMP:20260423T175013Z
END:VEVENT
END:VCALENDAR