BEGIN:VCALENDAR
VERSION:2.0
PRODID:-//Drupal iCal API//EN
X-WR-CALNAME:Events items teaser
X-WR-TIMEZONE:America/Toronto
BEGIN:VTIMEZONE
TZID:America/Toronto
X-LIC-LOCATION:America/Toronto
BEGIN:DAYLIGHT
TZNAME:EDT
TZOFFSETFROM:-0500
TZOFFSETTO:-0400
DTSTART:20230312T070000
END:DAYLIGHT
BEGIN:STANDARD
TZNAME:EST
TZOFFSETFROM:-0400
TZOFFSETTO:-0500
DTSTART:20221106T060000
END:STANDARD
END:VTIMEZONE
BEGIN:VEVENT
UID:69e7847b0dd40
DTSTART;TZID=America/Toronto:20231003T190000
SEQUENCE:0
TRANSP:TRANSPARENT
DTEND;TZID=America/Toronto:20231003T190000
URL:https://uwaterloo.ca/science/events/new-faculty-lecture-featuring-dr-ch
 ris-houser
SUMMARY:New Faculty Lecture featuring Dr. Chris Houser
CLASS:PUBLIC
DESCRIPTION:Once again we are pleased to present our New Faculty Lecture. P
 lease\njoin us in welcoming our new Dean of Science\, Dr. Chris Houser\, a
 s he\npresents the “State of Canada’s Coastline” 
DTSTAMP:20260421T140651Z
END:VEVENT
END:VCALENDAR