BEGIN:VCALENDAR
VERSION:2.0
PRODID:-//Drupal iCal API//EN
X-WR-CALNAME:Events items teaser
X-WR-TIMEZONE:America/Toronto
BEGIN:VTIMEZONE
TZID:America/Toronto
X-LIC-LOCATION:America/Toronto
BEGIN:DAYLIGHT
TZNAME:EDT
TZOFFSETFROM:-0500
TZOFFSETTO:-0400
DTSTART:20240310T070000
END:DAYLIGHT
BEGIN:STANDARD
TZNAME:EST
TZOFFSETFROM:-0400
TZOFFSETTO:-0500
DTSTART:20231105T060000
END:STANDARD
END:VTIMEZONE
BEGIN:VEVENT
UID:69ed7469f1466
DTSTART;VALUE=DATE:20240502
SEQUENCE:0
TRANSP:TRANSPARENT
DTEND;VALUE=DATE:20240505
URL:https://uwaterloo.ca/science/events/ontario-ecology-ethology-and-evolut
 ion-colloquium-oe3c-2024
SUMMARY:Ontario Ecology\, Ethology\, and Evolution Colloquium (OE3C) 2024
CLASS:PUBLIC
DESCRIPTION:Save the date!\n\nRegistration has opened for the Ontario Ecol
 ogy\, Ethology\, and\nEvolution Colloquium (OE3C – oe3c.ca) being held
  at UWATERLOO\nFROM 02-04 MAY 2024. This is a great opportunity for Biolo
 gy students\nto showcase their research and network with academics across 
 Ontario\nwhile staying close to home. \n\nFREE GRADUATE REGISTRATION for
  UWaterloo graduate students\nthat _present research they have conducted 
 or assisted\nwith_ (maximum 20 undergraduates and 20 graduates).
X-MICROSOFT-CDO-ALLDAYEVENT:TRUE
DTSTAMP:20260426T021153Z
END:VEVENT
END:VCALENDAR