BEGIN:VCALENDAR
VERSION:2.0
PRODID:-//Drupal iCal API//EN
X-WR-CALNAME:Events items teaser
X-WR-TIMEZONE:America/Toronto
BEGIN:VTIMEZONE
TZID:America/Toronto
X-LIC-LOCATION:America/Toronto
BEGIN:DAYLIGHT
TZNAME:EDT
TZOFFSETFROM:-0500
TZOFFSETTO:-0400
DTSTART:20230312T070000
END:DAYLIGHT
BEGIN:DAYLIGHT
TZNAME:EDT
TZOFFSETFROM:-0500
TZOFFSETTO:-0400
DTSTART:20240310T070000
END:DAYLIGHT
BEGIN:STANDARD
TZNAME:EST
TZOFFSETFROM:-0400
TZOFFSETTO:-0500
DTSTART:20231105T060000
END:STANDARD
END:VTIMEZONE
BEGIN:VEVENT
UID:69e3158c51841
DTSTART;TZID=America/Toronto:20240118T150000
SEQUENCE:0
TRANSP:TRANSPARENT
DTEND;TZID=America/Toronto:20240118T160000
URL:https://uwaterloo.ca/science/events/biology-graduate-student-seminar-se
 ries
LOCATION:RCH - J.R. Coutts Engineering Lecture Hall Room 208 Waterloo ON N2
 L 3G1 Canada
SUMMARY:Biology Graduate Student Seminar Series
CLASS:PUBLIC
DESCRIPTION:Join us for our Winter 2024 Biology Graduate Student Seminar Se
 ries\n\nHosted biweekly on Thursdays from 3-4 pm\; In-person RCH 308 and o
 nline\nvia Zoom
DTSTAMP:20260418T052428Z
END:VEVENT
BEGIN:VEVENT
UID:69e3158c53301
DTSTART;TZID=America/Toronto:20240201T150000
SEQUENCE:0
TRANSP:TRANSPARENT
DTEND;TZID=America/Toronto:20240201T160000
URL:https://uwaterloo.ca/science/events/biology-graduate-student-seminar-se
 ries
LOCATION:RCH - J.R. Coutts Engineering Lecture Hall Room 208 Waterloo ON N2
 L 3G1 Canada
SUMMARY:Biology Graduate Student Seminar Series
CLASS:PUBLIC
DESCRIPTION:Join us for our Winter 2024 Biology Graduate Student Seminar Se
 ries\n\nHosted biweekly on Thursdays from 3-4 pm\; In-person RCH 308 and o
 nline\nvia Zoom
DTSTAMP:20260418T052428Z
END:VEVENT
BEGIN:VEVENT
UID:69e3158c54113
DTSTART;TZID=America/Toronto:20240215T150000
SEQUENCE:0
TRANSP:TRANSPARENT
DTEND;TZID=America/Toronto:20240215T160000
URL:https://uwaterloo.ca/science/events/biology-graduate-student-seminar-se
 ries
LOCATION:RCH - J.R. Coutts Engineering Lecture Hall Room 208 Waterloo ON N2
 L 3G1 Canada
SUMMARY:Biology Graduate Student Seminar Series
CLASS:PUBLIC
DESCRIPTION:Join us for our Winter 2024 Biology Graduate Student Seminar Se
 ries\n\nHosted biweekly on Thursdays from 3-4 pm\; In-person RCH 308 and o
 nline\nvia Zoom
DTSTAMP:20260418T052428Z
END:VEVENT
BEGIN:VEVENT
UID:69e3158c54b97
DTSTART;TZID=America/Toronto:20240229T150000
SEQUENCE:0
TRANSP:TRANSPARENT
DTEND;TZID=America/Toronto:20240229T160000
URL:https://uwaterloo.ca/science/events/biology-graduate-student-seminar-se
 ries
LOCATION:RCH - J.R. Coutts Engineering Lecture Hall Room 208 Waterloo ON N2
 L 3G1 Canada
SUMMARY:Biology Graduate Student Seminar Series
CLASS:PUBLIC
DESCRIPTION:Join us for our Winter 2024 Biology Graduate Student Seminar Se
 ries\n\nHosted biweekly on Thursdays from 3-4 pm\; In-person RCH 308 and o
 nline\nvia Zoom
DTSTAMP:20260418T052428Z
END:VEVENT
BEGIN:VEVENT
UID:69e3158c5571d
DTSTART;TZID=America/Toronto:20240314T150000
SEQUENCE:0
TRANSP:TRANSPARENT
DTEND;TZID=America/Toronto:20240314T160000
URL:https://uwaterloo.ca/science/events/biology-graduate-student-seminar-se
 ries
LOCATION:RCH - J.R. Coutts Engineering Lecture Hall Room 208 Waterloo ON N2
 L 3G1 Canada
SUMMARY:Biology Graduate Student Seminar Series
CLASS:PUBLIC
DESCRIPTION:Join us for our Winter 2024 Biology Graduate Student Seminar Se
 ries\n\nHosted biweekly on Thursdays from 3-4 pm\; In-person RCH 308 and o
 nline\nvia Zoom
DTSTAMP:20260418T052428Z
END:VEVENT
BEGIN:VEVENT
UID:69e3158c56328
DTSTART;TZID=America/Toronto:20240328T150000
SEQUENCE:0
TRANSP:TRANSPARENT
DTEND;TZID=America/Toronto:20240328T160000
URL:https://uwaterloo.ca/science/events/biology-graduate-student-seminar-se
 ries
LOCATION:RCH - J.R. Coutts Engineering Lecture Hall Room 208 Waterloo ON N2
 L 3G1 Canada
SUMMARY:Biology Graduate Student Seminar Series
CLASS:PUBLIC
DESCRIPTION:Join us for our Winter 2024 Biology Graduate Student Seminar Se
 ries\n\nHosted biweekly on Thursdays from 3-4 pm\; In-person RCH 308 and o
 nline\nvia Zoom
DTSTAMP:20260418T052428Z
END:VEVENT
BEGIN:VEVENT
UID:69e3158c56f04
DTSTART;TZID=America/Toronto:20240411T150000
SEQUENCE:0
TRANSP:TRANSPARENT
DTEND;TZID=America/Toronto:20240411T160000
URL:https://uwaterloo.ca/science/events/biology-graduate-student-seminar-se
 ries
LOCATION:RCH - J.R. Coutts Engineering Lecture Hall Room 208 Waterloo ON N2
 L 3G1 Canada
SUMMARY:Biology Graduate Student Seminar Series
CLASS:PUBLIC
DESCRIPTION:Join us for our Winter 2024 Biology Graduate Student Seminar Se
 ries\n\nHosted biweekly on Thursdays from 3-4 pm\; In-person RCH 308 and o
 nline\nvia Zoom
DTSTAMP:20260418T052428Z
END:VEVENT
BEGIN:VEVENT
UID:69e3158c57f42
DTSTART;TZID=America/Toronto:20240425T150000
SEQUENCE:0
TRANSP:TRANSPARENT
DTEND;TZID=America/Toronto:20240425T160000
URL:https://uwaterloo.ca/science/events/biology-graduate-student-seminar-se
 ries
LOCATION:RCH - J.R. Coutts Engineering Lecture Hall Room 208 Waterloo ON N2
 L 3G1 Canada
SUMMARY:Biology Graduate Student Seminar Series
CLASS:PUBLIC
DESCRIPTION:Join us for our Winter 2024 Biology Graduate Student Seminar Se
 ries\n\nHosted biweekly on Thursdays from 3-4 pm\; In-person RCH 308 and o
 nline\nvia Zoom
DTSTAMP:20260418T052428Z
END:VEVENT
END:VCALENDAR