BEGIN:VCALENDAR
VERSION:2.0
PRODID:-//Drupal iCal API//EN
X-WR-CALNAME:Events items teaser
X-WR-TIMEZONE:America/Toronto
BEGIN:VTIMEZONE
TZID:America/Toronto
X-LIC-LOCATION:America/Toronto
BEGIN:DAYLIGHT
TZNAME:EDT
TZOFFSETFROM:-0500
TZOFFSETTO:-0400
DTSTART:20250309T070000
END:DAYLIGHT
BEGIN:STANDARD
TZNAME:EST
TZOFFSETFROM:-0400
TZOFFSETTO:-0500
DTSTART:20251102T060000
END:STANDARD
END:VTIMEZONE
BEGIN:VEVENT
UID:69e91adae4923
DTSTART;TZID=America/Toronto:20251112T183000
SEQUENCE:0
TRANSP:TRANSPARENT
DTEND;TZID=America/Toronto:20251112T200000
URL:https://uwaterloo.ca/science/events/chirped-pulse-amplification-40th-ce
 lebration-donna
LOCATION:The CIGI Auditorium 67 Erb Street West Waterloo ON N2L 6C2 Canada
SUMMARY:Chirped Pulse Amplification 40th Celebration - with Donna Stricklan
 d
CLASS:PUBLIC
DESCRIPTION:Join us for a special evening celebrating the 40th anniversary 
 of\nNobel Laureate Dr. Donna Strickland’s CPA\, a milestone marking her\
 nextraordinary journey in science and innovation.
DTSTAMP:20260422T190042Z
END:VEVENT
END:VCALENDAR