BEGIN:VCALENDAR
VERSION:2.0
PRODID:-//Drupal iCal API//EN
X-WR-CALNAME:Events items teaser
X-WR-TIMEZONE:America/Toronto
BEGIN:VTIMEZONE
TZID:America/Toronto
X-LIC-LOCATION:America/Toronto
BEGIN:DAYLIGHT
TZNAME:EDT
TZOFFSETFROM:-0500
TZOFFSETTO:-0400
DTSTART:20250309T070000
END:DAYLIGHT
BEGIN:STANDARD
TZNAME:EST
TZOFFSETFROM:-0400
TZOFFSETTO:-0500
DTSTART:20241103T060000
END:STANDARD
END:VTIMEZONE
BEGIN:VEVENT
UID:69ecd6e541111
DTSTART;TZID=America/Toronto:20251027T110000
SEQUENCE:0
TRANSP:TRANSPARENT
DTEND;TZID=America/Toronto:20251027T120000
URL:https://uwaterloo.ca/science/events/chemistry-seminar-series-sergey-n-k
 rylov
LOCATION:C2 - Chemistry 2 Room 361 Waterloo ON N2L 3G1 Canada
SUMMARY:Chemistry Seminar Series: Sergey N. Krylov
CLASS:PUBLIC
DESCRIPTION:THE ACCURACY CRISIS IN BINDING AND POTENCY STUDIES: HIDDEN CAUS
 ES\,\nHEAVY COSTS\, AND A CALL TO ACT\n\nPROFESSOR SERGEY N. KRYLOV\nCente
 r for Research on Biomolecular Interactions\, York University\nToronto\, C
 anada\n\nTUESDAY\, OCTOBER 27\, 2025\n11:00 a.m.\n\nIN-PERSON: C2-361
DTSTAMP:20260425T145949Z
END:VEVENT
END:VCALENDAR