BEGIN:VCALENDAR
VERSION:2.0
PRODID:-//Drupal iCal API//EN
X-WR-CALNAME:Events items teaser
X-WR-TIMEZONE:America/Toronto
BEGIN:VTIMEZONE
TZID:America/Toronto
X-LIC-LOCATION:America/Toronto
BEGIN:DAYLIGHT
TZNAME:EDT
TZOFFSETFROM:-0500
TZOFFSETTO:-0400
DTSTART:20250309T070000
END:DAYLIGHT
BEGIN:STANDARD
TZNAME:EST
TZOFFSETFROM:-0400
TZOFFSETTO:-0500
DTSTART:20251102T060000
END:STANDARD
END:VTIMEZONE
BEGIN:VEVENT
UID:69ecd6f94bf8d
DTSTART;TZID=America/Toronto:20251104T110000
SEQUENCE:0
TRANSP:TRANSPARENT
DTEND;TZID=America/Toronto:20251104T120000
URL:https://uwaterloo.ca/science/events/chemistry-seminar-series-adam-shuhe
 ndler
LOCATION:C2 - Chemistry 2 Room 361 Waterloo ON N2L 3G1 Canada
SUMMARY:Chemistry Seminar Series: Adam Shuhendler
CLASS:PUBLIC
DESCRIPTION:NANOSCALE SENTINELS AND MOLECULAR BEACONS: ILLUMINATING DISEASE
  FROM\nTHE INSIDE OUT\n\nADAM SHUHENDLER\nProfessor\, Department of Chemis
 try &amp; Biomolecular Science\nUniversity of Ottawa Heart Institute\n\nTUESDA
 Y\, NOVEMBER 4\, 2025\n11:00 a.m.\n\nIN-PERSON: C2-361
DTSTAMP:20260425T150009Z
END:VEVENT
END:VCALENDAR