BEGIN:VCALENDAR
VERSION:2.0
PRODID:-//Drupal iCal API//EN
X-WR-CALNAME:Events items teaser
X-WR-TIMEZONE:America/Toronto
BEGIN:VTIMEZONE
TZID:America/Toronto
X-LIC-LOCATION:America/Toronto
BEGIN:DAYLIGHT
TZNAME:EDT
TZOFFSETFROM:-0500
TZOFFSETTO:-0400
DTSTART:20250309T070000
END:DAYLIGHT
BEGIN:STANDARD
TZNAME:EST
TZOFFSETFROM:-0400
TZOFFSETTO:-0500
DTSTART:20251102T060000
END:STANDARD
END:VTIMEZONE
BEGIN:VEVENT
UID:69ecd6f5c9a1b
DTSTART;TZID=America/Toronto:20251118T110000
SEQUENCE:0
TRANSP:TRANSPARENT
DTEND;TZID=America/Toronto:20251118T120000
URL:https://uwaterloo.ca/science/events/chemistry-seminar-series-elizabeth-
 r-gillies
LOCATION:C2 - Chemistry 2 Room 361 Waterloo ON N2L 3G1 Canada
SUMMARY:Chemistry Seminar Series: Elizabeth R. Gillies
CLASS:PUBLIC
DESCRIPTION:SELF-IMMOLATIVE POLYMERS: DESIGNING\, SYNTHESIZING\, AND APPLYI
 NG\nPOLYMERS THAT FALL APART\n\nELIZABETH R. GILLIES\nProfessor\, Departme
 nt of Chemistry\; Department of Chemical and\nBiochemical Engineering\nUni
 versity of Western Ontario\n\nTUESDAY\, NOVEMBER 18\, 2025\n11:00 a.m.\n\n
 IN-PERSON: C2-361
DTSTAMP:20260425T150005Z
END:VEVENT
END:VCALENDAR