BEGIN:VCALENDAR
VERSION:2.0
PRODID:-//Drupal iCal API//EN
X-WR-CALNAME:Events items teaser
X-WR-TIMEZONE:America/Toronto
BEGIN:VTIMEZONE
TZID:America/Toronto
X-LIC-LOCATION:America/Toronto
BEGIN:DAYLIGHT
TZNAME:EDT
TZOFFSETFROM:-0500
TZOFFSETTO:-0400
DTSTART:20250309T070000
END:DAYLIGHT
BEGIN:STANDARD
TZNAME:EST
TZOFFSETFROM:-0400
TZOFFSETTO:-0500
DTSTART:20251102T060000
END:STANDARD
END:VTIMEZONE
BEGIN:VEVENT
UID:69e912018907d
DTSTART;TZID=America/Toronto:20251111T110000
SEQUENCE:0
TRANSP:TRANSPARENT
DTEND;TZID=America/Toronto:20251111T120000
URL:https://uwaterloo.ca/science/events/chemistry-seminar-series-marissa-cl
 apson
LOCATION:C2 - Chemistry 2 Room 361 Waterloo ON N2L 3G1 Canada
SUMMARY:Chemistry Seminar Series: Marissa Clapson
CLASS:PUBLIC
DESCRIPTION:GREEN CHEMISTRY APPROACHES TO BASE METAL CATALYST DESIGN: LEVER
 AGING A\nLEWIS ACIDIC\nSECONDARY COORDINATION SPHERE FOR SMALL MOLECULE AC
 TIVATION\n\nDR. MARISSA CLAPSON\nAssistant Professor\nUniversity of Prince
  Edward Island\n\nTUESDAY\, NOVEMBER 11\, 2025\n11:00 a.m.\n\nIN-PERSON: C
 2-361
DTSTAMP:20260422T182257Z
END:VEVENT
END:VCALENDAR