BEGIN:VCALENDAR
VERSION:2.0
PRODID:-//Drupal iCal API//EN
X-WR-CALNAME:Events items teaser
X-WR-TIMEZONE:America/Toronto
BEGIN:VTIMEZONE
TZID:America/Toronto
X-LIC-LOCATION:America/Toronto
BEGIN:DAYLIGHT
TZNAME:EDT
TZOFFSETFROM:-0500
TZOFFSETTO:-0400
DTSTART:20260308T070000
END:DAYLIGHT
BEGIN:STANDARD
TZNAME:EST
TZOFFSETFROM:-0400
TZOFFSETTO:-0500
DTSTART:20251102T060000
END:STANDARD
END:VTIMEZONE
BEGIN:VEVENT
UID:69e91bec10286
DTSTART;TZID=America/Toronto:20260602T183000
SEQUENCE:0
TRANSP:TRANSPARENT
DTEND;TZID=America/Toronto:20260602T200000
URL:https://uwaterloo.ca/science/events/science-city-skies-eyes
LOCATION:TWB 300 Mill St #1 Kitchener ON N2M 3R8 Canada
SUMMARY:Science in the City - Skies &amp; Eyes
CLASS:PUBLIC
DESCRIPTION:From the skies\, to your eyes there is a lot to learn at this S
 cience\nin the City.  Discovering exoplanets using the James Webb Space\n
 Telescope\, Dr. Lisa Dang is learning about lava worlds and what it\nwould
  be like if you were to visit. Dr. Austin Roorda is working to\nunlock the
  discovery of more colours\, using Oz vision! Join us to\nexplore some of 
 the great things happening right in your backyard at\nthe University of Wa
 terloo.\n\nThe event is free.\n\nPlease register!
DTSTAMP:20260422T190516Z
END:VEVENT
END:VCALENDAR