BEGIN:VCALENDAR
VERSION:2.0
PRODID:-//Drupal iCal API//EN
X-WR-CALNAME:Events items teaser
X-WR-TIMEZONE:America/Toronto
BEGIN:VTIMEZONE
TZID:America/Toronto
X-LIC-LOCATION:America/Toronto
BEGIN:DAYLIGHT
TZNAME:EDT
TZOFFSETFROM:-0500
TZOFFSETTO:-0400
DTSTART:20260308T070000
END:DAYLIGHT
BEGIN:STANDARD
TZNAME:EST
TZOFFSETFROM:-0400
TZOFFSETTO:-0500
DTSTART:20251102T060000
END:STANDARD
END:VTIMEZONE
BEGIN:VEVENT
UID:69eb0fb064764
DTSTART;TZID=America/Toronto:20260610T140000
SEQUENCE:0
TRANSP:TRANSPARENT
DTEND;TZID=America/Toronto:20260610T150000
URL:https://uwaterloo.ca/science/events/adrian-smith-2026-lecture-sasha-wil
 son
LOCATION:QNC - Quantum Nano Centre Room 2502 Waterloo ON N2L 3G1 Canada
SUMMARY:Adrian Smith 2026 Lecture: Sasha Wilson
CLASS:PUBLIC
DESCRIPTION:Join us for the 2026 Adrian Smith Lecture featuring\n\nSASHA WI
 LSON\nProfessor\nUniversity of Alberta\n\nCRITICAL METAL RECOVERY WITH CAR
 BON DIOXIDE MINERALIZATION IN ORE\nPROCESSING\n\nWEDNESDAY\, JUNE 10\, 202
 6\n2:00 p.m.\n\nIN-PERSON: QNC 2502
DTSTAMP:20260424T063736Z
END:VEVENT
END:VCALENDAR