BEGIN:VCALENDAR
VERSION:2.0
PRODID:-//Drupal iCal API//EN
X-WR-CALNAME:Events items teaser
X-WR-TIMEZONE:America/Toronto
BEGIN:VTIMEZONE
TZID:America/Toronto
X-LIC-LOCATION:America/Toronto
BEGIN:DAYLIGHT
TZNAME:EDT
TZOFFSETFROM:-0500
TZOFFSETTO:-0400
DTSTART:20260308T070000
END:DAYLIGHT
BEGIN:STANDARD
TZNAME:EST
TZOFFSETFROM:-0400
TZOFFSETTO:-0500
DTSTART:20251102T060000
END:STANDARD
END:VTIMEZONE
BEGIN:VEVENT
UID:69ed40d5ce42f
DTSTART;TZID=America/Toronto:20260429T190000
SEQUENCE:0
TRANSP:TRANSPARENT
DTEND;TZID=America/Toronto:20260429T200000
URL:https://uwaterloo.ca/science/events/wca-kpl-public-talk-black-holes-and
 -beyond-lucy-pothier
LOCATION:Kitchener Public Library 85 Queen Street North Kitchener ON N2H 2H
 1 Canada
SUMMARY:WCA-KPL Public Talk: Black Holes and Beyond (Lucy Pothier-Bogoslows
 ki)
CLASS:PUBLIC
DESCRIPTION:Black holes are massive objects from which even light cannot es
 cape --\nso how can we \"see\" them? In this month's KPL astronomy talk\, 
 Lucy\nPothier-Bogoslowski  will discuss several observational techniques\
 nand properties of black holes that allow us to observe them and their\nim
 pact on their environments from small to large scales.\n\nPlease register 
 through the KPL events page.
DTSTAMP:20260425T223149Z
END:VEVENT
BEGIN:VEVENT
UID:69ed40d5d13c8
DTSTART;TZID=America/Toronto:20260610T140000
SEQUENCE:0
TRANSP:TRANSPARENT
DTEND;TZID=America/Toronto:20260610T150000
URL:https://uwaterloo.ca/science/events/adrian-smith-2026-lecture-sasha-wil
 son
LOCATION:QNC - Quantum Nano Centre Room 2502 Waterloo ON N2L 3G1 Canada
SUMMARY:Adrian Smith 2026 Lecture: Sasha Wilson
CLASS:PUBLIC
DESCRIPTION:Join us for the 2026 Adrian Smith Lecture featuring\n\nSASHA WI
 LSON\nProfessor\nUniversity of Alberta\n\nCRITICAL METAL RECOVERY WITH CAR
 BON DIOXIDE MINERALIZATION IN ORE\nPROCESSING\n\nWEDNESDAY\, JUNE 10\, 202
 6\n2:00 p.m.\n\nIN-PERSON: QNC 2502
DTSTAMP:20260425T223149Z
END:VEVENT
BEGIN:VEVENT
UID:69ed40d5d253e
DTSTART;TZID=America/Toronto:20260527T183000
SEQUENCE:0
TRANSP:TRANSPARENT
DTEND;TZID=America/Toronto:20260527T203000
URL:https://uwaterloo.ca/science/events/chemistry-alumni-networking-recepti
 on-during-csc
LOCATION:Kellys Landing 123 Front St W\, Toronto ON N5J 2M2 Canada
SUMMARY:Chemistry alumni networking reception during CSC
CLASS:PUBLIC
DESCRIPTION:Attending this year's Canadian Chemistry Conference and Exhibit
 ion\n(CSC) in Toronto this year? Meet us at Kellys Landing for a chance to
 \nreconnect with your classmates\, network with fellow alumni and hear\nup
 dates from Science leadership about the Department of Chemistry and\nFacul
 ty of Science.
DTSTAMP:20260425T223149Z
END:VEVENT
BEGIN:VEVENT
UID:69ed40d5d35c8
DTSTART;TZID=America/Toronto:20260423T110000
SEQUENCE:0
TRANSP:TRANSPARENT
DTEND;TZID=America/Toronto:20260423T120000
URL:https://uwaterloo.ca/science/events/chemistry-seminar-series-matthew-t-
 mcdowell
LOCATION:C2 - Chemistry 2 Room 361 Waterloo ON N2L 3G1 Canada
SUMMARY:Chemistry Seminar Series: Matthew T. McDowell
CLASS:PUBLIC
DESCRIPTION:INTERFACES AND CHEMO-MECHANICS IN SOLID-STATE BATTERIES\n\nMATT
 HEW T. MCDOWELL\nProfessor\nCarter N. Paden\, Jr. Distinguished Chair\nCo-
 Director\, Georgia Tech Advanced Battery Center\nG. W. Woodruff School of 
 Mechanical Engineering\nSchool of Materials Science and Engineering\nGeorg
 ia Institute of Technology\, USA\n\nAPRIL 23\, 2026\n11 a.m.\n\nIN-PERSON 
 AND ONLINE: C2-361 AND MS TEAMS
DTSTAMP:20260425T223149Z
END:VEVENT
BEGIN:VEVENT
UID:69ed40d5d4b8d
DTSTART;TZID=America/Toronto:20260421T110000
SEQUENCE:0
TRANSP:TRANSPARENT
DTEND;TZID=America/Toronto:20260421T120000
URL:https://uwaterloo.ca/science/events/chemistry-seminar-series-graeme-how
 e
LOCATION:C2 - Chemistry 2 Room 361 Waterloo ON N2L 3G1 Canada
SUMMARY:Chemistry Seminar Series: Graeme Howe
CLASS:PUBLIC
DESCRIPTION:GENOME MINING FOR NYLB-TYPE AMIDASES TO FACILITATE CLOSED-LOOP 
 NYLON\nRECYCLING\n\nGRAEME HOWE\nProfessor\, Department of Chemistry and B
 iomedical &amp; Molecular Sciences\nQueen’s University\n\nAPRIL 21\, 2026\n1
 1 a.m.\n\nIN-PERSON: C2-361
DTSTAMP:20260425T223149Z
END:VEVENT
BEGIN:VEVENT
UID:69ed40d5d5e30
DTSTART;TZID=America/Toronto:20260606T100000
SEQUENCE:0
TRANSP:TRANSPARENT
DTEND;TZID=America/Toronto:20260606T120000
URL:https://uwaterloo.ca/science/events/walk-end-als-kitchener-waterloo
LOCATION:SLC - Student Life Centre 200 University Avenue West Waterloo ON N
 2L 3G1 Canada
SUMMARY:Walk to End ALS- Kitchener-Waterloo
CLASS:PUBLIC
DESCRIPTION:Join the Kitchener-Waterloo Walk to End ALS\, hosted at the Uni
 versity\nof Waterloo.
DTSTAMP:20260425T223149Z
END:VEVENT
BEGIN:VEVENT
UID:69ed40d5d6e35
DTSTART;TZID=America/Toronto:20260414T170000
SEQUENCE:0
TRANSP:TRANSPARENT
DTEND;TZID=America/Toronto:20260414T190000
URL:https://uwaterloo.ca/science/events/university-waterloo-alumni-social-b
 oston
LOCATION:Back Bay Social Club 867 Boylston Street Retro Room Boston\, ME 02
 116 United States
SUMMARY:University of Waterloo Alumni Social in Boston
CLASS:PUBLIC
DESCRIPTION:The Faculties of Science\, Engineering and Mathematics are deli
 ghted to\ninvite alumni in the Boston area to an alumni social in the Ret
 ro\nRoom [https://www.retroroomboston.com/] at Back Bay Social on April\n
 14\, 2026. Back Bay's new Retro Room blends vinyl\, 1970s decor and\ncomfo
 rt food classics. Come to experience this new 1970s-inspired\nlistening lo
 unge where vinyl sets the mood.
DTSTAMP:20260425T223149Z
END:VEVENT
BEGIN:VEVENT
UID:69ed40d5d7eb4
DTSTART;TZID=America/Toronto:20260325T190000
SEQUENCE:0
TRANSP:TRANSPARENT
DTEND;TZID=America/Toronto:20260325T200000
URL:https://uwaterloo.ca/science/events/wca-kpl-public-talk-probing-alien-s
 kies-lisa-dang
LOCATION:Kitchener Public Library 85 Queen Street North Kitchener ON N2H 2H
 1 Canada
SUMMARY:WCA-KPL Public talk: Probing Alien Skies (Lisa Dang)
CLASS:PUBLIC
DESCRIPTION:Among the diversity of exoplanets discovered in the last few de
 cades\nare a particularly intriguing type called lava worlds. In this mont
 h's\nKPL astronomy talk\, Dr. Lisa Dang will share how we find these\nscor
 ching hot rocky planets\, and discuss how we can study them and\nwhat you 
 could experience if you were to visit a lava world.\n\nPlease register thr
 ough the KPL events page.
DTSTAMP:20260425T223149Z
END:VEVENT
BEGIN:VEVENT
UID:69ed40d5d8d0d
DTSTART;TZID=America/Toronto:20260323T173000
SEQUENCE:0
TRANSP:TRANSPARENT
DTEND;TZID=America/Toronto:20260323T183000
URL:https://uwaterloo.ca/science/events/kickstart-your-career-journey-first
 -year-science-student
LOCATION:STC - Science Teaching Complex Room 0050 Waterloo ON N2L 3G1 Canad
 a
SUMMARY:Kickstart your career journey: A first-year Science student guide
CLASS:PUBLIC
DESCRIPTION:Calling all first-year Science students! We know at the end of 
 first\nyear you’re likely thinking about ‘what’s next?’ And whethe
 r\nyou’re in a regular program or co-op program\, we know that careers\n
 are probably on your mind.
DTSTAMP:20260425T223149Z
END:VEVENT
BEGIN:VEVENT
UID:69ed40d5d9dba
DTSTART;TZID=America/Toronto:20260326T113000
SEQUENCE:0
TRANSP:TRANSPARENT
DTEND;TZID=America/Toronto:20260326T130000
URL:https://uwaterloo.ca/science/events/equity-infrastructure-dr-imogen-coe
LOCATION:QNC - Quantum Nano Centre 0101 Waterloo ON N2L 3G1 Canada
SUMMARY:Equity as Infrastructure with Dr. Imogen Coe
CLASS:PUBLIC
DESCRIPTION:EQUITY AS INFRASTRUCTURE: RECALIBRATING THE FOUNDATIONS OF SCIE
 NTIFIC\nEXCELLENCE\n\nScientifc excellence is typically assessed through o
 utputs -\npublications\, grands\, citations. But excellence is produced by
 \nsystems: by research culture\, team dynamics\, design choices and\ninsti
 tutional incentives. This talk reframes equity not as an add-on\,\nbut as 
 core infrastructure that shapes rigour\, validity\, innovation\nand impact
 . Moving beyond performative EDI requires recalibrating the\nfoundational 
 conditions that determine scientific performance.\n\nPlease register!
DTSTAMP:20260425T223149Z
END:VEVENT
END:VCALENDAR