BEGIN:VCALENDAR
VERSION:2.0
PRODID:-//Drupal iCal API//EN
X-WR-CALNAME:Events items teaser
X-WR-TIMEZONE:America/Toronto
BEGIN:VTIMEZONE
TZID:America/Toronto
X-LIC-LOCATION:America/Toronto
BEGIN:DAYLIGHT
TZNAME:EDT
TZOFFSETFROM:-0500
TZOFFSETTO:-0400
DTSTART:20170312T070000
END:DAYLIGHT
BEGIN:STANDARD
TZNAME:EST
TZOFFSETFROM:-0400
TZOFFSETTO:-0500
DTSTART:20161106T060000
END:STANDARD
END:VTIMEZONE
BEGIN:VEVENT
UID:69e1fafc7d438
DTSTART;VALUE=DATE:20170703
SEQUENCE:0
TRANSP:TRANSPARENT
DTEND;VALUE=DATE:20170709
URL:https://uwaterloo.ca/sedra-student-design-centre/events/formula-sun-gra
 nd-prix-2017
LOCATION:Circuit of the Americas 9201 Circuit of the Americas Blvd Austin \
 , 78617 United States
SUMMARY:Formula Sun Grand Prix 2017
CLASS:PUBLIC
DESCRIPTION:AMERICAN SOLAR CHALLENGE FORMULA SUN GRAND PRIX\n\nMidnight Sun
  Solar Car Team
X-MICROSOFT-CDO-ALLDAYEVENT:TRUE
DTSTAMP:20260417T091852Z
END:VEVENT
END:VCALENDAR