BEGIN:VCALENDAR
VERSION:2.0
PRODID:-//Drupal iCal API//EN
X-WR-CALNAME:Events items teaser
X-WR-TIMEZONE:America/Toronto
BEGIN:VTIMEZONE
TZID:America/Toronto
X-LIC-LOCATION:America/Toronto
BEGIN:DAYLIGHT
TZNAME:EDT
TZOFFSETFROM:-0500
TZOFFSETTO:-0400
DTSTART:20170312T070000
END:DAYLIGHT
BEGIN:STANDARD
TZNAME:EST
TZOFFSETFROM:-0400
TZOFFSETTO:-0500
DTSTART:20161106T060000
END:STANDARD
END:VTIMEZONE
BEGIN:VEVENT
UID:69e1fafc8d490
DTSTART;TZID=America/Toronto:20170825T100000
SEQUENCE:0
TRANSP:TRANSPARENT
DTEND;TZID=America/Toronto:20170827T170000
URL:https://uwaterloo.ca/sedra-student-design-centre/events/hyperloop-space
 x-competition
LOCATION:Hawthorne \, CA United States
SUMMARY:Hyperloop - SpaceX Competition
CLASS:PUBLIC
DESCRIPTION:UNIVERSITY OF WATERLOO'S WATERLOOP TEAM INVITED TO\nSPACEX CO
 MPETITION IN CALIFORNIA\n\nSpaceX is revolutionizing terrestrial transport
 ation through its\nHyperloop transportation services. The company currentl
 y provides\nthese services to innovators and universities interested in hi
 gh-speed\ntransportation technology and solutions. The Hyperloop system bu
 ilt by\nSpaceX at its headquarters in Hawthorne\, California\, is approxim
 ately\none mile in length with a six foot outer diameter.
DTSTAMP:20260417T091852Z
END:VEVENT
END:VCALENDAR