BEGIN:VCALENDAR
VERSION:2.0
PRODID:-//Drupal iCal API//EN
X-WR-CALNAME:Events items teaser
X-WR-TIMEZONE:America/Toronto
BEGIN:VTIMEZONE
TZID:America/Toronto
X-LIC-LOCATION:America/Toronto
BEGIN:DAYLIGHT
TZNAME:EDT
TZOFFSETFROM:-0500
TZOFFSETTO:-0400
DTSTART:20180311T070000
END:DAYLIGHT
BEGIN:STANDARD
TZNAME:EST
TZOFFSETFROM:-0400
TZOFFSETTO:-0500
DTSTART:20171105T060000
END:STANDARD
END:VTIMEZONE
BEGIN:VEVENT
UID:69da655ff3685
DTSTART;VALUE=DATE:20180510
SEQUENCE:0
TRANSP:TRANSPARENT
DTEND;VALUE=DATE:20180513
URL:https://uwaterloo.ca/sedra-student-design-centre/events/canadian-nation
 al-concrete-canoe-competition-may-10th-may
SUMMARY:The Canadian National Concrete Canoe Competition\, May 10th - May 1
 2th\n2018
CLASS:PUBLIC
DESCRIPTION:THE CANADIAN NATIONAL CONCRETE CANOE COMPETITION\n\nCNCCC 2018 
 has officially announced that the University of Waterloo\nwill be hosting 
 the competition from May 10th - 12th 2018. The\ncommunity is also welcom
 e to come see our team compete and witness 15\nconcrete canoes race to the
  finish! 
X-MICROSOFT-CDO-ALLDAYEVENT:TRUE
DTSTAMP:20260411T151440Z
END:VEVENT
END:VCALENDAR