BEGIN:VCALENDAR
VERSION:2.0
PRODID:-//Drupal iCal API//EN
X-WR-CALNAME:Events items teaser
X-WR-TIMEZONE:America/Toronto
BEGIN:VTIMEZONE
TZID:America/Toronto
X-LIC-LOCATION:America/Toronto
BEGIN:DAYLIGHT
TZNAME:EDT
TZOFFSETFROM:-0500
TZOFFSETTO:-0400
DTSTART:20170312T070000
END:DAYLIGHT
BEGIN:STANDARD
TZNAME:EST
TZOFFSETFROM:-0400
TZOFFSETTO:-0500
DTSTART:20171105T060000
END:STANDARD
END:VTIMEZONE
BEGIN:VEVENT
UID:69e1fb57d4e79
DTSTART;VALUE=DATE:20180106
SEQUENCE:0
TRANSP:TRANSPARENT
DTEND;VALUE=DATE:20180110
URL:https://uwaterloo.ca/sedra-student-design-centre/events/robot-3-days
LOCATION:E5 - Engineering 5 200 University Avenue West E5 1001 - SDC Common
  Area Waterloo ON N2L 3G1 Canada
SUMMARY:Robot in 3 Days
CLASS:PUBLIC
DESCRIPTION:ROBOT IN 3 DAYS AT THE UNIVERSITY OF WATERLOO\n\nCANADA'S LARG
 EST RI3D TEAM\n\nWith 60 students at the University of Waterloo\, we inspi
 re FIRST\nRobotics Competition teams around the world by building a robot 
 in 3\ndays. For 72 hours\, we investigate the FIRST challenge\, prepare a\
 ndesign\, manufacture a chassis\, wire electromechanical systems\, and\npr
 ogram an entire FRC robot - 40 days before bag and tag.
X-MICROSOFT-CDO-ALLDAYEVENT:TRUE
DTSTAMP:20260417T092023Z
END:VEVENT
END:VCALENDAR