BEGIN:VCALENDAR
VERSION:2.0
PRODID:-//Drupal iCal API//EN
X-WR-CALNAME:Events items teaser
X-WR-TIMEZONE:America/Toronto
BEGIN:VTIMEZONE
TZID:America/Toronto
X-LIC-LOCATION:America/Toronto
BEGIN:DAYLIGHT
TZNAME:EDT
TZOFFSETFROM:-0500
TZOFFSETTO:-0400
DTSTART:20170312T070000
END:DAYLIGHT
BEGIN:STANDARD
TZNAME:EST
TZOFFSETFROM:-0400
TZOFFSETTO:-0500
DTSTART:20161106T060000
END:STANDARD
END:VTIMEZONE
BEGIN:VEVENT
UID:69d9b762b2dd2
DTSTART;VALUE=DATE:20170601
SEQUENCE:0
TRANSP:TRANSPARENT
DTEND;VALUE=DATE:20170604
URL:https://uwaterloo.ca/sedra-student-design-centre/events/university-rove
 r-challenge
LOCATION:Mars Desert Research Station Hanksville\, United States
SUMMARY:University Rover Challenge
CLASS:PUBLIC
DESCRIPTION:UNIVERSITY ROVER CHALLENGE 2017\n\nUniversity of Waterloo Robot
 ics Team\n\nTHE UNIVERSITY ROVER CHALLENGE (URC) is the world's premier r
 obotics\ncompetition for college students.  Held annually in the desert o
 f\nsouthern Utah in the United States\, URC challenges student teams to\nd
 esign and build the next generation of Mars rovers that will one day\nwork
  alongside astronauts exploring the Red Planet.
X-MICROSOFT-CDO-ALLDAYEVENT:TRUE
DTSTAMP:20260411T025218Z
END:VEVENT
END:VCALENDAR