BEGIN:VCALENDAR
VERSION:2.0
PRODID:-//Drupal iCal API//EN
X-WR-CALNAME:Events items teaser
X-WR-TIMEZONE:America/Toronto
BEGIN:VTIMEZONE
TZID:America/Toronto
X-LIC-LOCATION:America/Toronto
BEGIN:DAYLIGHT
TZNAME:EDT
TZOFFSETFROM:-0500
TZOFFSETTO:-0400
DTSTART:20230312T070000
END:DAYLIGHT
BEGIN:STANDARD
TZNAME:EST
TZOFFSETFROM:-0400
TZOFFSETTO:-0500
DTSTART:20221106T060000
END:STANDARD
END:VTIMEZONE
BEGIN:VEVENT
UID:69e0b45e5c5f5
DTSTART;TZID=America/Toronto:20230518T173000
SEQUENCE:0
TRANSP:TRANSPARENT
DTEND;TZID=America/Toronto:20230518T200000
URL:https://uwaterloo.ca/sexual-violence-prevention-response-office/events/
 creating-safer-spaces-sport-brock-mcgillis
LOCATION:64 University Avenue West Waterloo ON N2L 3C7 Canada
SUMMARY:Creating Safer Spaces In Sport with Brock McGillis
CLASS:PUBLIC
DESCRIPTION:As part of Sexual Violence Prevention Month (SVAM)\, join us fo
 r an\nevening of discussion on creating a culture of consent in sports wit
 h\nformer OHL and professional hockey player Brock McGillis.\n\nWhat does 
 it look like to build an equitable and safe sports\ncommunity? With many s
 tories coming to light about sexual violence and\nother harms experienced 
 in sports communities\, we are bringing folks\ntogether to discuss how to 
 do better. After a talk by Brock McGillis\,\nour panel of community expert
 s will share their perspectives on sexual\nand gender-based violence in at
 hletics.\n\nDoors open at 5:30pm\, with the event beginning at 6:00pm. Lig
 ht\nrefreshments will be provided.\n\nPaid parking is available behind Laz
 aridis Hall off of Balsam Street.\nThere is also a bus stop outside of Laz
 aridis Hall on University Ave\naccessible by the 12\, 29\, and 202 buses. 
 A Wilfrid Laurier University\ncampus map can be found here:\nhttps://map.c
 oncept3d.com/?id=638#!ct/6784\,21459\,6789\,6779\,6787\,6781\,6785\,6783\,
 13903\,11451\,67867?s/\n\n_BROCK MCGILLIS__ is a former OHL and professio
 nal hockey player and\nis the first openly gay men's professional hockey p
 layer and a leading\nactivist in the LGBTQ+ space. His continuous work to 
 shift the\nconversation around sports and the LGBTQ+ community earned him\
 nrecognition as one of The Hockey News's 100 most influential people in\nh
 ockey for 2022._\n\nThe SEXUAL VIOLENCE PREVENTION AND RESPONSE OFFICE PR
 ESENTS THIS\nEVENT IN PARTNERSHIP WITH THE SEXUAL ASSAULT SUPPORT CENTRE O
 F\nWATERLOO REGION (SASC - www.sascwr.org [https://www.sascwr.org/])\,\nW
 ILFRID LAURIER CONSENT IS GOLDEN\,and CONESTOGA COLLEGE STUDENT\nENGAGEME
 NT OFFICE.\n\nTo register\, please visit:\nhttps://www.eventbrite.ca/e/cre
 ating-safer-spaces-in-sport-with-brock-mcgillis-tickets-591651314007
DTSTAMP:20260416T100518Z
END:VEVENT
END:VCALENDAR