BEGIN:VCALENDAR
VERSION:2.0
PRODID:-//Drupal iCal API//EN
X-WR-CALNAME:Events items teaser
X-WR-TIMEZONE:America/Toronto
BEGIN:VTIMEZONE
TZID:America/Toronto
X-LIC-LOCATION:America/Toronto
BEGIN:DAYLIGHT
TZNAME:EDT
TZOFFSETFROM:-0500
TZOFFSETTO:-0400
DTSTART:20210314T070000
END:DAYLIGHT
BEGIN:DAYLIGHT
TZNAME:EDT
TZOFFSETFROM:-0500
TZOFFSETTO:-0400
DTSTART:20200308T070000
END:DAYLIGHT
BEGIN:DAYLIGHT
TZNAME:EDT
TZOFFSETFROM:-0500
TZOFFSETTO:-0400
DTSTART:20190310T070000
END:DAYLIGHT
BEGIN:DAYLIGHT
TZNAME:EDT
TZOFFSETFROM:-0500
TZOFFSETTO:-0400
DTSTART:20180311T070000
END:DAYLIGHT
BEGIN:STANDARD
TZNAME:EST
TZOFFSETFROM:-0400
TZOFFSETTO:-0500
DTSTART:20211107T060000
END:STANDARD
BEGIN:STANDARD
TZNAME:EST
TZOFFSETFROM:-0400
TZOFFSETTO:-0500
DTSTART:20201101T060000
END:STANDARD
BEGIN:STANDARD
TZNAME:EST
TZOFFSETFROM:-0400
TZOFFSETTO:-0500
DTSTART:20191103T060000
END:STANDARD
BEGIN:STANDARD
TZNAME:EST
TZOFFSETFROM:-0400
TZOFFSETTO:-0500
DTSTART:20181104T060000
END:STANDARD
END:VTIMEZONE
BEGIN:VEVENT
UID:69e59f9e11c17
DTSTART;TZID=America/Toronto:20220121T130000
SEQUENCE:0
TRANSP:TRANSPARENT
DTEND;TZID=America/Toronto:20220121T143000
URL:https://uwaterloo.ca/southwestern-ontario-research-data-centre/events/s
 wordc-seminar-dr-laura-duncan
SUMMARY:SWORDC Seminar | Dr. Laura Duncan
CLASS:PUBLIC
DESCRIPTION:Mark your calendar for SWORDC's first Winter virtual seminar\no
 n FRIDAY\, JANUARY 21ST\, 1PM-2:30PM\, with Dr Laura Duncan\n[https://e
 xperts.mcmaster.ca/display/duncanlj]\, Professor in the\ndepartment of psy
 chiatry and behavioural neurosciences\, McMaster\nUniversity\, and researc
 her at the Offord Centre for Child Studies.\n\nTitle of the talk: “Child
  &amp; youth mental health need\, service use &amp;\nresource allocation: Analyses
  using 2014 Ontario Child Health Study\ndata linkages”
DTSTAMP:20260420T033806Z
END:VEVENT
BEGIN:VEVENT
UID:69e59f9e1d605
DTSTART;TZID=America/Toronto:20211126T140000
SEQUENCE:0
TRANSP:TRANSPARENT
DTEND;TZID=America/Toronto:20211126T140000
URL:https://uwaterloo.ca/southwestern-ontario-research-data-centre/events/s
 wordc-seminar-dr-jennifer-robson
LOCATION:Online Canada
SUMMARY:SWORDC Seminar by Dr. Jennifer Robson
CLASS:PUBLIC
DESCRIPTION:\"WHO DOESN’T FILE A TAX-RETURN? ESTIMATES OF NON-FILING AND\
 nIMPLICATIONS FOR MEASURING AND ADDRESSING\nPOVERTY.\"          
   \n\nFRIDAY NOVEMBER 26TH\, 2021
DTSTAMP:20260420T033806Z
END:VEVENT
BEGIN:VEVENT
UID:69e59f9e2080f
DTSTART;TZID=America/Toronto:20210226T130000
SEQUENCE:0
TRANSP:TRANSPARENT
DTEND;TZID=America/Toronto:20210226T143000
URL:https://uwaterloo.ca/southwestern-ontario-research-data-centre/events/s
 wordc-data-talk-dr-gaelle-simard-duplain
LOCATION:uwaterloo.webex.com/uwaterloo/j.php?MTID=ma776d7255e60b4d1c7c2ab55
 6e1e6330 Canada
SUMMARY:SWORDC Data Talk | Dr Gaelle Simard-Duplain
CLASS:PUBLIC
DESCRIPTION:Join us for VIRTUAL DATA TALKS on _FRIDAY FEBRUARY 26TH\,\n
 2021\,1PM-2:30PM\, _please mark your calendar. Dr Gaelle\nSimard-Duplain
  [https://sites.google.com/view/simard-duplain/home]\,\nPost-Doctoral Rese
 archer at HEC Montréal. You should have already\nreceived a Webex invita
 tion\, but if you did not receive it please use\nthis link to join\n[http
 s://uwaterloo.webex.com/uwaterloo/j.php?MTID=ma776d7255e60b4d1c7c2ab556e1e
 6330]. 
DTSTAMP:20260420T033806Z
END:VEVENT
BEGIN:VEVENT
UID:69e59f9e21a1b
DTSTART;TZID=America/Toronto:20200306T153000
SEQUENCE:0
TRANSP:TRANSPARENT
DTEND;TZID=America/Toronto:20200306T153000
URL:https://uwaterloo.ca/southwestern-ontario-research-data-centre/events/s
 wordc-seminar-kevin-milligan
LOCATION:EV3 - Environment 3 200 University Avenue West Waterloo ON N2L 3G1
  Canada
SUMMARY:SWORDC Seminar | Kevin Milligan
CLASS:PUBLIC
DESCRIPTION:Speaker: Kevin Milligan\n[https://economics.ubc.ca/faculty-and-
 staff/kevin-milligan/]\, UBC\n\nTitle: \"Health\, mortality\, and earnings
  in a resource boom: the case\nof WLEMMAs\"
DTSTAMP:20260420T033806Z
END:VEVENT
BEGIN:VEVENT
UID:69e59f9e246de
DTSTART;TZID=America/Toronto:20200221T153000
SEQUENCE:0
TRANSP:TRANSPARENT
DTEND;TZID=America/Toronto:20200221T153000
URL:https://uwaterloo.ca/southwestern-ontario-research-data-centre/events/s
 wordc-seminar-ted-mcdonald
LOCATION:EV3 - Environment 3 200 University Avenue West Waterloo ON N2L 3G1
  Canada
SUMMARY:SWORDC Seminar | Ted McDonald
CLASS:PUBLIC
DESCRIPTION:Speaker: Ted McDonald\, University of New Brunswick\n\nTitle: \
 "Surgeon experience and surgical complications: applications of\nlinked ad
 ministrative health data\"
DTSTAMP:20260420T033806Z
END:VEVENT
BEGIN:VEVENT
UID:69e59f9e25541
DTSTART;TZID=America/Toronto:20191122T153000
SEQUENCE:0
TRANSP:TRANSPARENT
DTEND;TZID=America/Toronto:20191122T170000
URL:https://uwaterloo.ca/southwestern-ontario-research-data-centre/events/s
 wordc-seminar-david-green
LOCATION:EV3 - Environment 3 200 University Avenue West Room 3412 Waterloo 
 ON N2L 3G1 Canada
SUMMARY:SWORDC Seminar | David Green
CLASS:PUBLIC
DESCRIPTION:Mark your calendar for the upcoming seminar presented by Profes
 sor\nDavid Green [https://economics.ubc.ca/faculty-and-staff/david-green/]
 \,\nProfessor at the Vancouver School of Economics \, UBC and Internationa
 l\nFellow at the Institute for Fiscal Studies in London.
DTSTAMP:20260420T033806Z
END:VEVENT
BEGIN:VEVENT
UID:69e59f9e2630b
DTSTART;TZID=America/Toronto:20190510T120000
SEQUENCE:0
TRANSP:TRANSPARENT
DTEND;TZID=America/Toronto:20190510T130000
URL:https://uwaterloo.ca/southwestern-ontario-research-data-centre/events/d
 ata-talk-series-justin-smith
LOCATION:HH - J.G. Hagey Hall of the Humanities 200 University Avenue West 
 235 Waterloo ON N2L 3G1 Canada
SUMMARY:Data Talk Series | Justin Smith
CLASS:PUBLIC
DESCRIPTION:The data talk about the LAD dataset\n[http://www23.statcan.gc.c
 a/imdb/p2SV.pl?Function=getSurvey&amp;Id=1197655]\nthis Friday May 10 is cance
 lled. \n\nThe talk will be rescheduled to a Friday later in the summer. W
 e\napologize for the inconvenience. Please stay tuned for the new date.
DTSTAMP:20260420T033806Z
END:VEVENT
BEGIN:VEVENT
UID:69e59f9e2716e
DTSTART;TZID=America/Toronto:20190208T153000
SEQUENCE:0
TRANSP:TRANSPARENT
DTEND;TZID=America/Toronto:20190208T170000
URL:https://uwaterloo.ca/southwestern-ontario-research-data-centre/events/s
 wordc-seminar-series-grant-gibson
LOCATION:EV3 - Environment 3 200 University Avenue West 3412 Waterloo ON N2
 L 3G1 Canada
SUMMARY:SWORDC Seminar Series | Grant Gibson
CLASS:PUBLIC
DESCRIPTION:On Friday February 8\, 2019\, Professor Grant Gibson\n[https://
 socialsciences.mcmaster.ca/people/gibson-grant]\, PhD\,\nMcMaster Universi
 ty\, will be presenting a seminar entitled: _O\nBROTHER HOW ART THOU? PRO
 PENSITY TO REPORT UNMET NEED​._
DTSTAMP:20260420T033806Z
END:VEVENT
BEGIN:VEVENT
UID:69e59f9e27eee
DTSTART;TZID=America/Toronto:20190220T090000
SEQUENCE:0
TRANSP:TRANSPARENT
DTEND;TZID=America/Toronto:20190221T120000
URL:https://uwaterloo.ca/southwestern-ontario-research-data-centre/events/s
 as-workshops
LOCATION:PAS - Psychology\, Anthropology\, Sociology 200 University Avenue 
 West 1237 Waterloo ON N2L 3G1 Canada
SUMMARY:SAS Workshops
CLASS:PUBLIC
DESCRIPTION:WORKING WITH BIG DATA IN SAS\n\nPresented by Cristina Anton and
  Mark Morreale. February 20th\,\n9:00am-4:00pm in PAS 1237. Lunch will be 
 served during this workshop.\nTopics will include:
DTSTAMP:20260420T033806Z
END:VEVENT
BEGIN:VEVENT
UID:69e59f9e28bc2
DTSTART;TZID=America/Toronto:20190208T123000
SEQUENCE:0
TRANSP:TRANSPARENT
DTEND;TZID=America/Toronto:20190208T133000
URL:https://uwaterloo.ca/southwestern-ontario-research-data-centre/events/d
 ata-talk-series-grant-gibson
LOCATION:AL - Arts Lecture Hall 200 University Avenue West 211 Waterloo ON 
 N2L 3G1 Canada
SUMMARY:Data Talk Series | Grant Gibson
CLASS:PUBLIC
DESCRIPTION:UPCOMING ADMINISTRATIVE DATA AND NEW DATA LINKAGE OPPORTUNITIES
  IN\nYOUR LOCAL RDC
DTSTAMP:20260420T033806Z
END:VEVENT
END:VCALENDAR