BEGIN:VCALENDAR
VERSION:2.0
PRODID:-//Drupal iCal API//EN
X-WR-CALNAME:Events items teaser
X-WR-TIMEZONE:America/Toronto
BEGIN:VTIMEZONE
TZID:America/Toronto
X-LIC-LOCATION:America/Toronto
BEGIN:DAYLIGHT
TZNAME:EDT
TZOFFSETFROM:-0500
TZOFFSETTO:-0400
DTSTART:20250309T070000
END:DAYLIGHT
BEGIN:STANDARD
TZNAME:EST
TZOFFSETFROM:-0400
TZOFFSETTO:-0500
DTSTART:20241103T060000
END:STANDARD
END:VTIMEZONE
BEGIN:VEVENT
UID:69eb8293ee39e
DTSTART;TZID=America/Toronto:20250918T193000
SEQUENCE:0
TRANSP:TRANSPARENT
DTEND;TZID=America/Toronto:20250918T210000
URL:https://uwaterloo.ca/st-jeromes/events/colleen-dulle-struck-down-not-de
 stroyed-keeping-faith
LOCATION:St. Jerome's University\, Notre Dame Chapel 290 Westmount Road Nor
 th Waterloo ON N2L 3G3 Canada
SUMMARY:Colleen Dulle | Struck Down\, Not Destroyed: Keeping the Faith as a
 \nVatican Reporter
CLASS:PUBLIC
DESCRIPTION:Colleen Dulle\, Associate Editor at America Magazine. \"Struck
  Down\,\nNot Destroyed Keeping the Faith as a Vatican Reporter\". Colleen 
 will\nbe our first speaker as part of our 2025-2026 Lectures in Catholic\n
 Experience.
DTSTAMP:20260424T144747Z
END:VEVENT
END:VCALENDAR