BEGIN:VCALENDAR
VERSION:2.0
PRODID:-//Drupal iCal API//EN
X-WR-CALNAME:Events items teaser
X-WR-TIMEZONE:America/Toronto
BEGIN:VTIMEZONE
TZID:America/Toronto
X-LIC-LOCATION:America/Toronto
BEGIN:DAYLIGHT
TZNAME:EDT
TZOFFSETFROM:-0500
TZOFFSETTO:-0400
DTSTART:20250309T070000
END:DAYLIGHT
BEGIN:STANDARD
TZNAME:EST
TZOFFSETFROM:-0400
TZOFFSETTO:-0500
DTSTART:20251102T060000
END:STANDARD
END:VTIMEZONE
BEGIN:VEVENT
UID:69ea761f9554a
DTSTART;TZID=America/Toronto:20251127T193000
SEQUENCE:0
TRANSP:TRANSPARENT
DTEND;TZID=America/Toronto:20251127T210000
URL:https://uwaterloo.ca/st-jeromes/events/joel-thiessen-planting-seeds-cat
 holic-parish-religious
LOCATION:St. Jerome's University\, Notre Dame Chapel 290 Westmount Road Nor
 th Waterloo ON N2L 3G3 Canada
SUMMARY:Joel Thiessen | Planting Seeds: The Catholic Parish in the Religiou
 s\nTransmission Ecosystem
CLASS:PUBLIC
DESCRIPTION:Joel Thiessen\, Professor of Sociology\, Ambrose University and
  Director\nof the Flourishing Congregations will speak on the topic \"Plan
 ting\nSeeds: The Catholic Parish in the Religious Transmission Ecosystem\"
  as\npart of the our 2025-2026 Lectures in Catholic Experience series. 
DTSTAMP:20260423T194223Z
END:VEVENT
END:VCALENDAR