BEGIN:VCALENDAR
VERSION:2.0
PRODID:-//Drupal iCal API//EN
X-WR-CALNAME:Events items teaser
X-WR-TIMEZONE:America/Toronto
BEGIN:VTIMEZONE
TZID:America/Toronto
X-LIC-LOCATION:America/Toronto
BEGIN:DAYLIGHT
TZNAME:EDT
TZOFFSETFROM:-0500
TZOFFSETTO:-0400
DTSTART:20260308T070000
END:DAYLIGHT
BEGIN:STANDARD
TZNAME:EST
TZOFFSETFROM:-0400
TZOFFSETTO:-0500
DTSTART:20251102T060000
END:STANDARD
END:VTIMEZONE
BEGIN:VEVENT
UID:69eb98e8e878e
DTSTART;TZID=America/Toronto:20260312T193000
SEQUENCE:0
TRANSP:TRANSPARENT
DTEND;TZID=America/Toronto:20260312T210000
URL:https://uwaterloo.ca/st-jeromes/events/micah-true-anne-austrias-surgeon
 -francois-gendron-17th
LOCATION:St. Jerome's University\, Notre Dame Chapel Canada
SUMMARY:Micah True | Anne of Austria's Surgeon: François Gendron\, the\n17
 th-century Jesuit Mission to the Wendat\, and the History of Medicine
CLASS:PUBLIC
DESCRIPTION:ANNE OF AUSTRIA'S SURGEON: FRANÇOIS GENDRON\, THE 17TH-CENTURY
  JESUIT\nMISSION TO THE WENDAT\, AND THE HISTORY OF MEDICINE\n\nMicah True
 \, Professor of French and Folklore\, and Associate Dean of\nthe Faculty o
 f Graduate and Postdoctoral Studies at the University of\nAlberta.
DTSTAMP:20260424T162304Z
END:VEVENT
END:VCALENDAR