BEGIN:VCALENDAR
VERSION:2.0
PRODID:-//Drupal iCal API//EN
X-WR-CALNAME:Events items teaser
X-WR-TIMEZONE:America/Toronto
BEGIN:VTIMEZONE
TZID:America/Toronto
X-LIC-LOCATION:America/Toronto
BEGIN:DAYLIGHT
TZNAME:EDT
TZOFFSETFROM:-0500
TZOFFSETTO:-0400
DTSTART:20260308T070000
END:DAYLIGHT
BEGIN:STANDARD
TZNAME:EST
TZOFFSETFROM:-0400
TZOFFSETTO:-0500
DTSTART:20251102T060000
END:STANDARD
END:VTIMEZONE
BEGIN:VEVENT
UID:69eaa6e87228d
DTSTART;TZID=America/Toronto:20260423T193000
SEQUENCE:0
TRANSP:TRANSPARENT
DTEND;TZID=America/Toronto:20260423T210000
URL:https://uwaterloo.ca/st-jeromes/events/fr-matthew-durham-dmin-last-shal
 l-be-first-equity-and-mercy
LOCATION:St. Jerome's University\, Notre Dame Chapel Canada
SUMMARY:Fr. Matthew Durham\, DMin | The Last Shall Be First: Equity and Mer
 cy\nin End-of-Life Care for the Forgotten
CLASS:PUBLIC
DESCRIPTION:THE LAST SHALL BE FIRST: EQUITY AND MERCY IN END-OF-LIFE CARE F
 OR THE\nFORGOTTEN\n\nFr. Dr. Matthew M. Durham\, D.Min. Executive Directo
 r\,Hospice\nPalliative Care &amp; Community Development\, Saint Elizabeth Foun
 dation
DTSTAMP:20260423T231032Z
END:VEVENT
END:VCALENDAR